BEGIN:VCALENDAR
VERSION:2.0
PRODID:-//Chicago With Kids - ECPv6.15.13.1//NONSGML v1.0//EN
CALSCALE:GREGORIAN
METHOD:PUBLISH
X-ORIGINAL-URL:https://chiwithkids.com
X-WR-CALDESC:Events for Chicago With Kids
REFRESH-INTERVAL;VALUE=DURATION:PT1H
X-Robots-Tag:noindex
X-PUBLISHED-TTL:PT1H
BEGIN:VTIMEZONE
TZID:America/Chicago
BEGIN:DAYLIGHT
TZOFFSETFROM:-0600
TZOFFSETTO:-0500
TZNAME:CDT
DTSTART:20240310T080000
END:DAYLIGHT
BEGIN:STANDARD
TZOFFSETFROM:-0500
TZOFFSETTO:-0600
TZNAME:CST
DTSTART:20241103T070000
END:STANDARD
BEGIN:DAYLIGHT
TZOFFSETFROM:-0600
TZOFFSETTO:-0500
TZNAME:CDT
DTSTART:20250309T080000
END:DAYLIGHT
BEGIN:STANDARD
TZOFFSETFROM:-0500
TZOFFSETTO:-0600
TZNAME:CST
DTSTART:20251102T070000
END:STANDARD
BEGIN:DAYLIGHT
TZOFFSETFROM:-0600
TZOFFSETTO:-0500
TZNAME:CDT
DTSTART:20260308T080000
END:DAYLIGHT
BEGIN:STANDARD
TZOFFSETFROM:-0500
TZOFFSETTO:-0600
TZNAME:CST
DTSTART:20261101T070000
END:STANDARD
END:VTIMEZONE
BEGIN:VEVENT
DTSTART;VALUE=DATE:20250815
DTEND;VALUE=DATE:20250818
DTSTAMP:20260425T203527
CREATED:20230515T194257Z
LAST-MODIFIED:20250810T192634Z
UID:10000983-1755216000-1755475199@chiwithkids.com
SUMMARY:Glenwood Avenue Arts Fest
DESCRIPTION:For over twenty years\, The Glenwood Avenue Arts Fest (GAAF) has presented a free\, weekend-long arts festival featuring over 100 artist booths\, open studios\, and live entertainment on outdoor stages.  Attendees view and purchase handmade artworks directly from the creators.  The Fest brings free live music\, performances and art demonstrations — along with street food and craft beer from local merchants on the cobblestone streets of the Glenwood Avenue Arts District in Chicago’s historic Rogers Park neighborhood. \nFriday 8/15: 6pm-10pm Friday Night Cobblestone Jam\nSaturday 8/16: 11am to 9pm  Artists’ Market \nSunday 8/27: 11am to 7pm  Artists’ Market \n-All information from the Glenwood Avenue Website 
URL:https://chiwithkids.com/event/glenwood-avenue-arts-fest/
LOCATION:Rogers Part Art Festival Grounds\, 6900 N Glenwood Ave / 1400 W Morse Ave.\, Chicago
CATEGORIES:Art,Festival,Food,Free,Music
ATTACH;FMTTYPE=image/jpeg:https://chiwithkids.com/wp-content/uploads/2023/05/2-1-jpg.webp
END:VEVENT
BEGIN:VEVENT
DTSTART;TZID=America/Chicago:20250816T100000
DTEND;TZID=America/Chicago:20250817T140000
DTSTAMP:20260425T203527
CREATED:20230323T161911Z
LAST-MODIFIED:20250810T191639Z
UID:10000545-1755338400-1755439200@chiwithkids.com
SUMMARY:Air and Water Show
DESCRIPTION:The Chicago Air and Water Show presented by the City of Chicago is the largest FREE Air and Water show in the country. The show can be viewed along the lakefront from Fullerton to Oak Street\, with North Avenue Beach as the focal point.
URL:https://chiwithkids.com/event/air-and-water-show/
LOCATION:North Avenue Beach\, Chicago\, IL\, 60614\, United States
CATEGORIES:Free
ATTACH;FMTTYPE=image/jpeg:https://chiwithkids.com/wp-content/uploads/2023/03/Untitled-design-25-jpg.webp
END:VEVENT
BEGIN:VEVENT
DTSTART;TZID=America/Chicago:20250816T100000
DTEND;TZID=America/Chicago:20250817T170000
DTSTAMP:20260425T203527
CREATED:20230512T194928Z
LAST-MODIFIED:20250810T193336Z
UID:10000982-1755338400-1755450000@chiwithkids.com
SUMMARY:Evanston Art and Big Fork Fest
DESCRIPTION:130 juried artists from around the country will show and sell their art including paintings\, jewelry\, mixed media\, photography\, sculpture\, ceramics\, one-of-a-kind furniture\, home accessories and more! \nLive music on three stages\, great food\, drinks\, and tasty treats from local restaurants\, and a variety of kids’ activities\, create a fun and festive family-friendly event. Artist booth chats and artisan demonstrations add to the experience. \nAdmission is free and there is plenty of parking. The show is wheelchair and stroller accessible. -From the Evanston Art and Big Fork Fest website
URL:https://chiwithkids.com/event/evanston-art-and-big-fork-fest/
LOCATION:Downtown Evanston\, 800 Church Street\, Evanston\, IL\, United States
CATEGORIES:Art,Festival,Food,Free,Market,Music
ATTACH;FMTTYPE=image/jpeg:https://chiwithkids.com/wp-content/uploads/2023/05/Movie-39-jpg.webp
END:VEVENT
BEGIN:VEVENT
DTSTART;TZID=America/Chicago:20250816T120000
DTEND;TZID=America/Chicago:20250817T190000
DTSTAMP:20260425T203527
CREATED:20250810T213108Z
LAST-MODIFIED:20250810T213108Z
UID:10004462-1755345600-1755457200@chiwithkids.com
SUMMARY:Great American Lobster Fest
DESCRIPTION:Mark your calendar for the Great American Lobster Fest\, a lively seafood bash happening at Chicago’s famous Navy Pier\, perfectly timed with the thrilling Chicago Air & Water Show. \nFeast on fresh Maine lobster flown in daily from the East Coast\, cool off with an ice-cold drink\, explore unique craft booths\, and enjoy live music – all while high-flying jets and daring aerial stunts roar above in a show you can only see here. \nNot a seafood fan? No problem! There’s plenty to choose from\, including mouthwatering BBQ\, decadent desserts\, and other tasty favorites. This family-friendly event offers stunning views of Lake Michigan and the Chicago skyline\, making it the perfect setting for an unforgettable summer weekend on the waterfront.
URL:https://chiwithkids.com/event/great-american-lobster-fest/
LOCATION:Navy Pier\, 600 E Grand Ave\, Chicago\, IL\, 60611\, United States
CATEGORIES:Festival,Food,Free
ATTACH;FMTTYPE=image/jpeg:https://chiwithkids.com/wp-content/uploads/2025/08/lobster.jpg
END:VEVENT
BEGIN:VEVENT
DTSTART;TZID=America/Chicago:20250817T120000
DTEND;TZID=America/Chicago:20250817T180000
DTSTAMP:20260425T203527
CREATED:20250810T210655Z
LAST-MODIFIED:20250810T210655Z
UID:10004461-1755432000-1755453600@chiwithkids.com
SUMMARY:Around The World Food Truck Fest
DESCRIPTION:Get ready for a culinary passport unlike any other. Around the World Food Truck Festival brings a global tasting tour to The Forge: Lemont Quarries with an eclectic lineup of local and regional food trucks serving bold\, international flavors. From Greek gyros and Maine lobster rolls to Hawaiian barbecue\, Belgian waffles\, and Korean dumplings\, there’s something to satisfy every craving. \nBring your appetite\, your friends and your sense of adventure for an afternoon of delicious eats and outdoor fun! \nFeaturing food from: \n\nYum Dum\nHello Boba\nAll Belgium Waffles\nFlyin Hawaiian\nCHkNBox\nMamalicious\nLos Razos\nEva Lee Cooking\nSernas Grill\nTaste Greek Food\nBen’s Pretzels\nCousins Maine Lobster\nPierogi Rig\nSmokin Z’s\nTacomatora\nAvocado Theory\nCulinary Gangster\nSpoon Burger
URL:https://chiwithkids.com/event/around-the-world-food-truck-fest/
LOCATION:The Forge Lemont Quarries\, 1001 Main Street\, Lemont\, IL\, United States
CATEGORIES:Festival,Food
ATTACH;FMTTYPE=image/jpeg:https://chiwithkids.com/wp-content/uploads/2024/05/food-truck.jpg
END:VEVENT
BEGIN:VEVENT
DTSTART;TZID=America/Chicago:20250817T150000
DTEND;TZID=America/Chicago:20250817T180000
DTSTAMP:20260425T203527
CREATED:20250727T190434Z
LAST-MODIFIED:20250810T214513Z
UID:10004456-1755442800-1755453600@chiwithkids.com
SUMMARY:Family Day Chicago Dogs Day Game
DESCRIPTION:Catch on the Field\, Autographs\, $3 Bottomless Popcorn\, $3 Bottomless Fountain Drinks
URL:https://chiwithkids.com/event/special-chicago-dogs-day-game/
LOCATION:Impact Field\, 9850 Balmoral Ave\, Rosemont\, IL\, 60018\, United States
CATEGORIES:Sports
ATTACH;FMTTYPE=image/jpeg:https://chiwithkids.com/wp-content/uploads/2023/05/Movie-60-jpg.webp
END:VEVENT
END:VCALENDAR