BEGIN:VCALENDAR
VERSION:2.0
PRODID:-//Chicago With Kids - ECPv6.15.13.1//NONSGML v1.0//EN
CALSCALE:GREGORIAN
METHOD:PUBLISH
X-WR-CALNAME:Chicago With Kids
X-ORIGINAL-URL:https://chiwithkids.com
X-WR-CALDESC:Events for Chicago With Kids
REFRESH-INTERVAL;VALUE=DURATION:PT1H
X-Robots-Tag:noindex
X-PUBLISHED-TTL:PT1H
BEGIN:VTIMEZONE
TZID:America/Chicago
BEGIN:DAYLIGHT
TZOFFSETFROM:-0600
TZOFFSETTO:-0500
TZNAME:CDT
DTSTART:20240310T080000
END:DAYLIGHT
BEGIN:STANDARD
TZOFFSETFROM:-0500
TZOFFSETTO:-0600
TZNAME:CST
DTSTART:20241103T070000
END:STANDARD
BEGIN:DAYLIGHT
TZOFFSETFROM:-0600
TZOFFSETTO:-0500
TZNAME:CDT
DTSTART:20250309T080000
END:DAYLIGHT
BEGIN:STANDARD
TZOFFSETFROM:-0500
TZOFFSETTO:-0600
TZNAME:CST
DTSTART:20251102T070000
END:STANDARD
BEGIN:DAYLIGHT
TZOFFSETFROM:-0600
TZOFFSETTO:-0500
TZNAME:CDT
DTSTART:20260308T080000
END:DAYLIGHT
BEGIN:STANDARD
TZOFFSETFROM:-0500
TZOFFSETTO:-0600
TZNAME:CST
DTSTART:20261101T070000
END:STANDARD
END:VTIMEZONE
BEGIN:VEVENT
DTSTART;TZID=America/Chicago:20250825T093000
DTEND;TZID=America/Chicago:20250825T173000
DTSTAMP:20260425T185253
CREATED:20250727T121856Z
LAST-MODIFIED:20250727T121856Z
UID:10004402-1756114200-1756143000@chiwithkids.com
SUMMARY:FREE Illinois Resident Day at the Griffin Museum of Science and Industry
DESCRIPTION:The Museum of Industry will be FREE for Illinois Residents today. You can reserve your tickets online\, and the discount is applied at checkout. 
URL:https://chiwithkids.com/event/free-illinois-resident-day-at-the-griffin-museum-of-science-and-industry-2/2025-08-25/
LOCATION:Griffin Museum of Science and Industry\, 5700 S Dusable Lake Shore Drive\, Chicago\, IL\, 60637
CATEGORIES:Free,Science
ATTACH;FMTTYPE=image/png:https://chiwithkids.com/wp-content/uploads/2023/01/IMG_1966-Edited-1-1.png
END:VEVENT
END:VCALENDAR