BEGIN:VCALENDAR
VERSION:2.0
PRODID:-//Chicago With Kids - ECPv6.15.13.1//NONSGML v1.0//EN
CALSCALE:GREGORIAN
METHOD:PUBLISH
X-ORIGINAL-URL:https://chiwithkids.com
X-WR-CALDESC:Events for Chicago With Kids
REFRESH-INTERVAL;VALUE=DURATION:PT1H
X-Robots-Tag:noindex
X-PUBLISHED-TTL:PT1H
BEGIN:VTIMEZONE
TZID:America/Chicago
BEGIN:DAYLIGHT
TZOFFSETFROM:-0600
TZOFFSETTO:-0500
TZNAME:CDT
DTSTART:20240310T080000
END:DAYLIGHT
BEGIN:STANDARD
TZOFFSETFROM:-0500
TZOFFSETTO:-0600
TZNAME:CST
DTSTART:20241103T070000
END:STANDARD
BEGIN:DAYLIGHT
TZOFFSETFROM:-0600
TZOFFSETTO:-0500
TZNAME:CDT
DTSTART:20250309T080000
END:DAYLIGHT
BEGIN:STANDARD
TZOFFSETFROM:-0500
TZOFFSETTO:-0600
TZNAME:CST
DTSTART:20251102T070000
END:STANDARD
BEGIN:DAYLIGHT
TZOFFSETFROM:-0600
TZOFFSETTO:-0500
TZNAME:CDT
DTSTART:20260308T080000
END:DAYLIGHT
BEGIN:STANDARD
TZOFFSETFROM:-0500
TZOFFSETTO:-0600
TZNAME:CST
DTSTART:20261101T070000
END:STANDARD
END:VTIMEZONE
BEGIN:VEVENT
DTSTART;TZID=America/Chicago:20250905T173000
DTEND;TZID=America/Chicago:20250906T090000
DTSTAMP:20260425T160456
CREATED:20250520T141406Z
LAST-MODIFIED:20250520T141406Z
UID:10004169-1757093400-1757149200@chiwithkids.com
SUMMARY:Dozin' with the Dinos
DESCRIPTION:Spend the night with dinosaurs\, Egyptian mummies\, and more when you sleepover at the Field Museum! This is a dream come true for kids\, and not only will they get tos their favorite exhibits in their pajamas\, but they will get to do hands-on science activities\, like dissecting owl pellets and learning the steps of Egyptian mummification. \nThis event is for kids age 6-12\, and there must be one guardian for every three kids. \nMultiple packages are available\, but all packages include a snack and continental breakfast.
URL:https://chiwithkids.com/event/dozin-with-the-dinos-18/
LOCATION:Field Museum\, 1400 S Lake Shore Drive\, Chicago\, IL\, 60605\, United States
CATEGORIES:Overnight,Science
ATTACH;FMTTYPE=image/jpeg:https://chiwithkids.com/wp-content/uploads/2023/01/north-entrance-field-museum-scaled.webp
END:VEVENT
END:VCALENDAR