BEGIN:VCALENDAR
VERSION:2.0
PRODID:-//Chicago With Kids - ECPv6.15.13.1//NONSGML v1.0//EN
CALSCALE:GREGORIAN
METHOD:PUBLISH
X-ORIGINAL-URL:https://chiwithkids.com
X-WR-CALDESC:Events for Chicago With Kids
REFRESH-INTERVAL;VALUE=DURATION:PT1H
X-Robots-Tag:noindex
X-PUBLISHED-TTL:PT1H
BEGIN:VTIMEZONE
TZID:America/Chicago
BEGIN:DAYLIGHT
TZOFFSETFROM:-0600
TZOFFSETTO:-0500
TZNAME:CDT
DTSTART:20240310T080000
END:DAYLIGHT
BEGIN:STANDARD
TZOFFSETFROM:-0500
TZOFFSETTO:-0600
TZNAME:CST
DTSTART:20241103T070000
END:STANDARD
BEGIN:DAYLIGHT
TZOFFSETFROM:-0600
TZOFFSETTO:-0500
TZNAME:CDT
DTSTART:20250309T080000
END:DAYLIGHT
BEGIN:STANDARD
TZOFFSETFROM:-0500
TZOFFSETTO:-0600
TZNAME:CST
DTSTART:20251102T070000
END:STANDARD
BEGIN:DAYLIGHT
TZOFFSETFROM:-0600
TZOFFSETTO:-0500
TZNAME:CDT
DTSTART:20260308T080000
END:DAYLIGHT
BEGIN:STANDARD
TZOFFSETFROM:-0500
TZOFFSETTO:-0600
TZNAME:CST
DTSTART:20261101T070000
END:STANDARD
END:VTIMEZONE
BEGIN:VEVENT
DTSTART;TZID=America/Chicago:20251202T170000
DTEND;TZID=America/Chicago:20251202T210000
DTSTAMP:20260423T032413
CREATED:20240702T122429Z
LAST-MODIFIED:20250525T111703Z
UID:10004370-1764694800-1764709200@chiwithkids.com
SUMMARY:Free Admission for Illinois Residents at the Museum of Contemporary Art
DESCRIPTION:Illinois Residents receive FREE admission to the Museum of Contemporary Art. \nUsual Rates: \n\n\n\n\nAdults: $22\nStudents\, teachers\, and anyone 65+: $14\n\nNote: Anyone under 18 is always FREE \n\n\n\n  \nThe following Discounts always apply as well: \n\n\n\n\n\n\n$3 tickets for up to six individuals when visitors present their LINK (EBT) Card as part of the Museums for All program. \nFree Admission\nAdmission is free every day for: \n\nIllinois elementary and high school teachers. Simply present a valid teacher ID at the admissions desk. If you’re planning on visiting with your class\, please visit our School programs page for more information.\nVisitors with disabilities and their caregivers.\nActive members of the military\, police\, and fire departments and veterans as well as their families (with ID).\nAnyone 18 and under.\nMCA Members.
URL:https://chiwithkids.com/event/free-admission-for-illinois-residents-at-the-museum-of-contemporary-art/2025-12-02/
LOCATION:Museum of Contemporary Art\, 220 E Chicago Ave\, Chicago\, IL\, 60611\, United States
CATEGORIES:Art,Free,Museum
ATTACH;FMTTYPE=image/jpeg:https://chiwithkids.com/wp-content/uploads/2023/05/Movie-56-jpg.webp
END:VEVENT
BEGIN:VEVENT
DTSTART;TZID=America/Chicago:20251209T170000
DTEND;TZID=America/Chicago:20251209T210000
DTSTAMP:20260423T032413
CREATED:20240702T122429Z
LAST-MODIFIED:20250525T111703Z
UID:10004371-1765299600-1765314000@chiwithkids.com
SUMMARY:Free Admission for Illinois Residents at the Museum of Contemporary Art
DESCRIPTION:Illinois Residents receive FREE admission to the Museum of Contemporary Art. \nUsual Rates: \n\n\n\n\nAdults: $22\nStudents\, teachers\, and anyone 65+: $14\n\nNote: Anyone under 18 is always FREE \n\n\n\n  \nThe following Discounts always apply as well: \n\n\n\n\n\n\n$3 tickets for up to six individuals when visitors present their LINK (EBT) Card as part of the Museums for All program. \nFree Admission\nAdmission is free every day for: \n\nIllinois elementary and high school teachers. Simply present a valid teacher ID at the admissions desk. If you’re planning on visiting with your class\, please visit our School programs page for more information.\nVisitors with disabilities and their caregivers.\nActive members of the military\, police\, and fire departments and veterans as well as their families (with ID).\nAnyone 18 and under.\nMCA Members.
URL:https://chiwithkids.com/event/free-admission-for-illinois-residents-at-the-museum-of-contemporary-art/2025-12-09/
LOCATION:Museum of Contemporary Art\, 220 E Chicago Ave\, Chicago\, IL\, 60611\, United States
CATEGORIES:Art,Free,Museum
ATTACH;FMTTYPE=image/jpeg:https://chiwithkids.com/wp-content/uploads/2023/05/Movie-56-jpg.webp
END:VEVENT
BEGIN:VEVENT
DTSTART;TZID=America/Chicago:20251216T170000
DTEND;TZID=America/Chicago:20251216T210000
DTSTAMP:20260423T032413
CREATED:20240702T122429Z
LAST-MODIFIED:20250525T111703Z
UID:10004372-1765904400-1765918800@chiwithkids.com
SUMMARY:Free Admission for Illinois Residents at the Museum of Contemporary Art
DESCRIPTION:Illinois Residents receive FREE admission to the Museum of Contemporary Art. \nUsual Rates: \n\n\n\n\nAdults: $22\nStudents\, teachers\, and anyone 65+: $14\n\nNote: Anyone under 18 is always FREE \n\n\n\n  \nThe following Discounts always apply as well: \n\n\n\n\n\n\n$3 tickets for up to six individuals when visitors present their LINK (EBT) Card as part of the Museums for All program. \nFree Admission\nAdmission is free every day for: \n\nIllinois elementary and high school teachers. Simply present a valid teacher ID at the admissions desk. If you’re planning on visiting with your class\, please visit our School programs page for more information.\nVisitors with disabilities and their caregivers.\nActive members of the military\, police\, and fire departments and veterans as well as their families (with ID).\nAnyone 18 and under.\nMCA Members.
URL:https://chiwithkids.com/event/free-admission-for-illinois-residents-at-the-museum-of-contemporary-art/2025-12-16/
LOCATION:Museum of Contemporary Art\, 220 E Chicago Ave\, Chicago\, IL\, 60611\, United States
CATEGORIES:Art,Free,Museum
ATTACH;FMTTYPE=image/jpeg:https://chiwithkids.com/wp-content/uploads/2023/05/Movie-56-jpg.webp
END:VEVENT
END:VCALENDAR