BEGIN:VCALENDAR
VERSION:2.0
PRODID:-//Chicago With Kids - ECPv6.15.13.1//NONSGML v1.0//EN
CALSCALE:GREGORIAN
METHOD:PUBLISH
X-WR-CALNAME:Chicago With Kids
X-ORIGINAL-URL:https://chiwithkids.com
X-WR-CALDESC:Events for Chicago With Kids
REFRESH-INTERVAL;VALUE=DURATION:PT1H
X-Robots-Tag:noindex
X-PUBLISHED-TTL:PT1H
BEGIN:VTIMEZONE
TZID:America/Chicago
BEGIN:DAYLIGHT
TZOFFSETFROM:-0600
TZOFFSETTO:-0500
TZNAME:CDT
DTSTART:20260308T080000
END:DAYLIGHT
BEGIN:STANDARD
TZOFFSETFROM:-0500
TZOFFSETTO:-0600
TZNAME:CST
DTSTART:20261101T070000
END:STANDARD
BEGIN:DAYLIGHT
TZOFFSETFROM:-0600
TZOFFSETTO:-0500
TZNAME:CDT
DTSTART:20270314T080000
END:DAYLIGHT
BEGIN:STANDARD
TZOFFSETFROM:-0500
TZOFFSETTO:-0600
TZNAME:CST
DTSTART:20271107T070000
END:STANDARD
BEGIN:DAYLIGHT
TZOFFSETFROM:-0600
TZOFFSETTO:-0500
TZNAME:CDT
DTSTART:20280312T080000
END:DAYLIGHT
BEGIN:STANDARD
TZOFFSETFROM:-0500
TZOFFSETTO:-0600
TZNAME:CST
DTSTART:20281105T070000
END:STANDARD
END:VTIMEZONE
BEGIN:VEVENT
DTSTART;TZID=America/Chicago:20270401T100000
DTEND;TZID=America/Chicago:20270401T160000
DTSTAMP:20260424T052759
CREATED:20240617T114248Z
LAST-MODIFIED:20240617T114248Z
UID:10003208-1806573600-1806595200@chiwithkids.com
SUMMARY:Free Admission at the Peggy Notebaert Nature Museum
DESCRIPTION:Illinois Residents can enjoy FREE admission to the Peggy Notebaert Nature Museum. A $10 suggested donation per household is greatly appreciated.
URL:https://chiwithkids.com/event/free-admission-at-the-peggy-notebaert-nature-museum-7/2027-04-01/
LOCATION:Peggy Notebaert Nature Museum\, 2430 N Cannon Dr\, Chicago\, IL\, 60614\, United States
CATEGORIES:Free,Nature,Science
ATTACH;FMTTYPE=image/jpeg:https://chiwithkids.com/wp-content/uploads/2023/05/IMG_4789-scaled.webp
END:VEVENT
BEGIN:VEVENT
DTSTART;TZID=America/Chicago:20270407T090000
DTEND;TZID=America/Chicago:20270407T170000
DTSTAMP:20260424T052759
CREATED:20240614T112931Z
LAST-MODIFIED:20240623T015828Z
UID:10003534-1807088400-1807117200@chiwithkids.com
SUMMARY:Free Resident Day at the Field Museum
DESCRIPTION:“Free Admission Days are the perfect opportunity for Illinois residents to explore our general admission exhibitions with your family or a group of science-loving friends. Or\, use these days to check out special ticketed exhibitions or a 3D movie with a discounted Discovery or All-Access Pass. \nTickets for Free Days are only available to Illinois residents on-site and cannot be reserved in advance. Please ask a Visitor Services staff member for the special offer and show your Illinois proof of residency. You cannot take advantage of Free Days when buying tickets online.” -From the Field Museum Website
URL:https://chiwithkids.com/event/free-resident-day-at-the-field-museum-44-2/2027-04-07/
LOCATION:Field Museum\, 1400 S Lake Shore Drive\, Chicago\, IL\, 60605\, United States
CATEGORIES:Free,Museum,Science
ATTACH;FMTTYPE=image/jpeg:https://chiwithkids.com/wp-content/uploads/2023/01/fieldmuseum_maximo-383-Photo-by-Lucy-Hewett-©-2018-Field-Museum-1-1-scaled.jpg
END:VEVENT
BEGIN:VEVENT
DTSTART;TZID=America/Chicago:20270408T100000
DTEND;TZID=America/Chicago:20270408T160000
DTSTAMP:20260424T052759
CREATED:20240617T114248Z
LAST-MODIFIED:20240617T114248Z
UID:10003209-1807178400-1807200000@chiwithkids.com
SUMMARY:Free Admission at the Peggy Notebaert Nature Museum
DESCRIPTION:Illinois Residents can enjoy FREE admission to the Peggy Notebaert Nature Museum. A $10 suggested donation per household is greatly appreciated.
URL:https://chiwithkids.com/event/free-admission-at-the-peggy-notebaert-nature-museum-7/2027-04-08/
LOCATION:Peggy Notebaert Nature Museum\, 2430 N Cannon Dr\, Chicago\, IL\, 60614\, United States
CATEGORIES:Free,Nature,Science
ATTACH;FMTTYPE=image/jpeg:https://chiwithkids.com/wp-content/uploads/2023/05/IMG_4789-scaled.webp
END:VEVENT
BEGIN:VEVENT
DTSTART;TZID=America/Chicago:20270414T090000
DTEND;TZID=America/Chicago:20270414T170000
DTSTAMP:20260424T052759
CREATED:20240614T112931Z
LAST-MODIFIED:20240623T015828Z
UID:10003535-1807693200-1807722000@chiwithkids.com
SUMMARY:Free Resident Day at the Field Museum
DESCRIPTION:“Free Admission Days are the perfect opportunity for Illinois residents to explore our general admission exhibitions with your family or a group of science-loving friends. Or\, use these days to check out special ticketed exhibitions or a 3D movie with a discounted Discovery or All-Access Pass. \nTickets for Free Days are only available to Illinois residents on-site and cannot be reserved in advance. Please ask a Visitor Services staff member for the special offer and show your Illinois proof of residency. You cannot take advantage of Free Days when buying tickets online.” -From the Field Museum Website
URL:https://chiwithkids.com/event/free-resident-day-at-the-field-museum-44-2/2027-04-14/
LOCATION:Field Museum\, 1400 S Lake Shore Drive\, Chicago\, IL\, 60605\, United States
CATEGORIES:Free,Museum,Science
ATTACH;FMTTYPE=image/jpeg:https://chiwithkids.com/wp-content/uploads/2023/01/fieldmuseum_maximo-383-Photo-by-Lucy-Hewett-©-2018-Field-Museum-1-1-scaled.jpg
END:VEVENT
BEGIN:VEVENT
DTSTART;TZID=America/Chicago:20270415T100000
DTEND;TZID=America/Chicago:20270415T160000
DTSTAMP:20260424T052759
CREATED:20240617T114248Z
LAST-MODIFIED:20240617T114248Z
UID:10003210-1807783200-1807804800@chiwithkids.com
SUMMARY:Free Admission at the Peggy Notebaert Nature Museum
DESCRIPTION:Illinois Residents can enjoy FREE admission to the Peggy Notebaert Nature Museum. A $10 suggested donation per household is greatly appreciated.
URL:https://chiwithkids.com/event/free-admission-at-the-peggy-notebaert-nature-museum-7/2027-04-15/
LOCATION:Peggy Notebaert Nature Museum\, 2430 N Cannon Dr\, Chicago\, IL\, 60614\, United States
CATEGORIES:Free,Nature,Science
ATTACH;FMTTYPE=image/jpeg:https://chiwithkids.com/wp-content/uploads/2023/05/IMG_4789-scaled.webp
END:VEVENT
BEGIN:VEVENT
DTSTART;TZID=America/Chicago:20270421T090000
DTEND;TZID=America/Chicago:20270421T170000
DTSTAMP:20260424T052759
CREATED:20240614T112931Z
LAST-MODIFIED:20240623T015828Z
UID:10003536-1808298000-1808326800@chiwithkids.com
SUMMARY:Free Resident Day at the Field Museum
DESCRIPTION:“Free Admission Days are the perfect opportunity for Illinois residents to explore our general admission exhibitions with your family or a group of science-loving friends. Or\, use these days to check out special ticketed exhibitions or a 3D movie with a discounted Discovery or All-Access Pass. \nTickets for Free Days are only available to Illinois residents on-site and cannot be reserved in advance. Please ask a Visitor Services staff member for the special offer and show your Illinois proof of residency. You cannot take advantage of Free Days when buying tickets online.” -From the Field Museum Website
URL:https://chiwithkids.com/event/free-resident-day-at-the-field-museum-44-2/2027-04-21/
LOCATION:Field Museum\, 1400 S Lake Shore Drive\, Chicago\, IL\, 60605\, United States
CATEGORIES:Free,Museum,Science
ATTACH;FMTTYPE=image/jpeg:https://chiwithkids.com/wp-content/uploads/2023/01/fieldmuseum_maximo-383-Photo-by-Lucy-Hewett-©-2018-Field-Museum-1-1-scaled.jpg
END:VEVENT
BEGIN:VEVENT
DTSTART;TZID=America/Chicago:20270422T100000
DTEND;TZID=America/Chicago:20270422T160000
DTSTAMP:20260424T052759
CREATED:20240617T114248Z
LAST-MODIFIED:20240617T114248Z
UID:10003211-1808388000-1808409600@chiwithkids.com
SUMMARY:Free Admission at the Peggy Notebaert Nature Museum
DESCRIPTION:Illinois Residents can enjoy FREE admission to the Peggy Notebaert Nature Museum. A $10 suggested donation per household is greatly appreciated.
URL:https://chiwithkids.com/event/free-admission-at-the-peggy-notebaert-nature-museum-7/2027-04-22/
LOCATION:Peggy Notebaert Nature Museum\, 2430 N Cannon Dr\, Chicago\, IL\, 60614\, United States
CATEGORIES:Free,Nature,Science
ATTACH;FMTTYPE=image/jpeg:https://chiwithkids.com/wp-content/uploads/2023/05/IMG_4789-scaled.webp
END:VEVENT
BEGIN:VEVENT
DTSTART;TZID=America/Chicago:20270428T090000
DTEND;TZID=America/Chicago:20270428T170000
DTSTAMP:20260424T052759
CREATED:20240614T112931Z
LAST-MODIFIED:20240623T015828Z
UID:10003537-1808902800-1808931600@chiwithkids.com
SUMMARY:Free Resident Day at the Field Museum
DESCRIPTION:“Free Admission Days are the perfect opportunity for Illinois residents to explore our general admission exhibitions with your family or a group of science-loving friends. Or\, use these days to check out special ticketed exhibitions or a 3D movie with a discounted Discovery or All-Access Pass. \nTickets for Free Days are only available to Illinois residents on-site and cannot be reserved in advance. Please ask a Visitor Services staff member for the special offer and show your Illinois proof of residency. You cannot take advantage of Free Days when buying tickets online.” -From the Field Museum Website
URL:https://chiwithkids.com/event/free-resident-day-at-the-field-museum-44-2/2027-04-28/
LOCATION:Field Museum\, 1400 S Lake Shore Drive\, Chicago\, IL\, 60605\, United States
CATEGORIES:Free,Museum,Science
ATTACH;FMTTYPE=image/jpeg:https://chiwithkids.com/wp-content/uploads/2023/01/fieldmuseum_maximo-383-Photo-by-Lucy-Hewett-©-2018-Field-Museum-1-1-scaled.jpg
END:VEVENT
BEGIN:VEVENT
DTSTART;TZID=America/Chicago:20270429T100000
DTEND;TZID=America/Chicago:20270429T160000
DTSTAMP:20260424T052759
CREATED:20240617T114248Z
LAST-MODIFIED:20240617T114248Z
UID:10003212-1808992800-1809014400@chiwithkids.com
SUMMARY:Free Admission at the Peggy Notebaert Nature Museum
DESCRIPTION:Illinois Residents can enjoy FREE admission to the Peggy Notebaert Nature Museum. A $10 suggested donation per household is greatly appreciated.
URL:https://chiwithkids.com/event/free-admission-at-the-peggy-notebaert-nature-museum-7/2027-04-29/
LOCATION:Peggy Notebaert Nature Museum\, 2430 N Cannon Dr\, Chicago\, IL\, 60614\, United States
CATEGORIES:Free,Nature,Science
ATTACH;FMTTYPE=image/jpeg:https://chiwithkids.com/wp-content/uploads/2023/05/IMG_4789-scaled.webp
END:VEVENT
END:VCALENDAR