BEGIN:VCALENDAR
VERSION:2.0
PRODID:-//Chicago With Kids - ECPv6.15.13.1//NONSGML v1.0//EN
CALSCALE:GREGORIAN
METHOD:PUBLISH
X-WR-CALNAME:Chicago With Kids
X-ORIGINAL-URL:https://chiwithkids.com
X-WR-CALDESC:Events for Chicago With Kids
REFRESH-INTERVAL;VALUE=DURATION:PT1H
X-Robots-Tag:noindex
X-PUBLISHED-TTL:PT1H
BEGIN:VTIMEZONE
TZID:America/Chicago
BEGIN:DAYLIGHT
TZOFFSETFROM:-0600
TZOFFSETTO:-0500
TZNAME:CDT
DTSTART:20240310T080000
END:DAYLIGHT
BEGIN:STANDARD
TZOFFSETFROM:-0500
TZOFFSETTO:-0600
TZNAME:CST
DTSTART:20241103T070000
END:STANDARD
BEGIN:DAYLIGHT
TZOFFSETFROM:-0600
TZOFFSETTO:-0500
TZNAME:CDT
DTSTART:20250309T080000
END:DAYLIGHT
BEGIN:STANDARD
TZOFFSETFROM:-0500
TZOFFSETTO:-0600
TZNAME:CST
DTSTART:20251102T070000
END:STANDARD
BEGIN:DAYLIGHT
TZOFFSETFROM:-0600
TZOFFSETTO:-0500
TZNAME:CDT
DTSTART:20260308T080000
END:DAYLIGHT
BEGIN:STANDARD
TZOFFSETFROM:-0500
TZOFFSETTO:-0600
TZNAME:CST
DTSTART:20261101T070000
END:STANDARD
END:VTIMEZONE
BEGIN:VEVENT
DTSTART;TZID=America/Chicago:20251001T160000
DTEND;TZID=America/Chicago:20251001T190000
DTSTAMP:20260425T120307
CREATED:20250524T114333Z
LAST-MODIFIED:20250524T114333Z
UID:10004293-1759334400-1759345200@chiwithkids.com
SUMMARY:Art After Dark
DESCRIPTION:“Join GPCA’s Nature Educators on Wednesday evenings to explore and discover together! This program runs every week from 4-7:30pm. This free\, drop in program is designed for kids and families ages 4 and up. Activities will follow themes of nature and science\, but with a special focus on learning\, processing\, and making personal connections to subject matter through art. Families can enjoy open-ended collaborative or individual projects\, nature journal prompts inspired by the Conservatory collection and conversations about Chicago’s ecosystems and our place in them\, in a calm and inviting atmosphere! \nThis program is included in all reservations to visit the Conservatory\, book your reservation ahead of time here: here (link opens in a new tab) \nFamily programs are supported in part by Peoples Gas Community Fund\, The Dr. Scholl Foundation and PNC.” \n-Description from the Garfield Park Conservatory Website
URL:https://chiwithkids.com/event/art-after-dark/2025-10-01/
LOCATION:Garfield Park Conservatory\, 300 N Central Park Ave\, Chicago\, IL\, 60624\, United States
CATEGORIES:Art,Free,Nature,Science
ATTACH;FMTTYPE=image/jpeg:https://chiwithkids.com/wp-content/uploads/2024/06/cuttingwithscissors.jpg
END:VEVENT
BEGIN:VEVENT
DTSTART;TZID=America/Chicago:20251001T160000
DTEND;TZID=America/Chicago:20251001T193000
DTSTAMP:20260425T120307
CREATED:20250520T180939Z
LAST-MODIFIED:20250520T180939Z
UID:10004273-1759334400-1759347000@chiwithkids.com
SUMMARY:Wild Wednesdays
DESCRIPTION:“Wild Wednesdays are back for the season at Garfield Park Conservatory! Join Family Programs staff outdoors in Play and Grow Garden for free\, drop-in activities\, such as fort building\, bug hunts\, chalk drawing\, and more! Find us every Wednesday evening from 4:00-7:30 pm. Just head outside through our Desert House doors and follow the giant bubbles! \nThis program is included in all reservations to visit the Conservatory\, book your reservation ahead of time here: here (link opens in a new tab) \nFamily programs are supported in part by Peoples Gas Community Fund\, Dr. Scholls Foundation  and PNC” \n-Description from the Garfield Park Conservatory Website
URL:https://chiwithkids.com/event/wild-wednesdays-2/2025-10-01/
LOCATION:Garfield Park Conservatory\, 300 N Central Park Ave\, Chicago\, IL\, 60624\, United States
CATEGORIES:Free,Nature,Science
ATTACH;FMTTYPE=image/jpeg:https://chiwithkids.com/wp-content/uploads/2024/06/kidsoutside.jpg
END:VEVENT
END:VCALENDAR