BEGIN:VCALENDAR
VERSION:2.0
PRODID:-//Chicago With Kids - ECPv6.15.13.1//NONSGML v1.0//EN
CALSCALE:GREGORIAN
METHOD:PUBLISH
X-WR-CALNAME:Chicago With Kids
X-ORIGINAL-URL:https://chiwithkids.com
X-WR-CALDESC:Events for Chicago With Kids
REFRESH-INTERVAL;VALUE=DURATION:PT1H
X-Robots-Tag:noindex
X-PUBLISHED-TTL:PT1H
BEGIN:VTIMEZONE
TZID:America/Chicago
BEGIN:DAYLIGHT
TZOFFSETFROM:-0600
TZOFFSETTO:-0500
TZNAME:CDT
DTSTART:20240310T080000
END:DAYLIGHT
BEGIN:STANDARD
TZOFFSETFROM:-0500
TZOFFSETTO:-0600
TZNAME:CST
DTSTART:20241103T070000
END:STANDARD
BEGIN:DAYLIGHT
TZOFFSETFROM:-0600
TZOFFSETTO:-0500
TZNAME:CDT
DTSTART:20250309T080000
END:DAYLIGHT
BEGIN:STANDARD
TZOFFSETFROM:-0500
TZOFFSETTO:-0600
TZNAME:CST
DTSTART:20251102T070000
END:STANDARD
BEGIN:DAYLIGHT
TZOFFSETFROM:-0600
TZOFFSETTO:-0500
TZNAME:CDT
DTSTART:20260308T080000
END:DAYLIGHT
BEGIN:STANDARD
TZOFFSETFROM:-0500
TZOFFSETTO:-0600
TZNAME:CST
DTSTART:20261101T070000
END:STANDARD
END:VTIMEZONE
BEGIN:VEVENT
DTSTART;TZID=America/Chicago:20251015T160000
DTEND;TZID=America/Chicago:20251015T190000
DTSTAMP:20260425T120311
CREATED:20250524T114333Z
LAST-MODIFIED:20250524T114333Z
UID:10004295-1760544000-1760554800@chiwithkids.com
SUMMARY:Art After Dark
DESCRIPTION:“Join GPCA’s Nature Educators on Wednesday evenings to explore and discover together! This program runs every week from 4-7:30pm. This free\, drop in program is designed for kids and families ages 4 and up. Activities will follow themes of nature and science\, but with a special focus on learning\, processing\, and making personal connections to subject matter through art. Families can enjoy open-ended collaborative or individual projects\, nature journal prompts inspired by the Conservatory collection and conversations about Chicago’s ecosystems and our place in them\, in a calm and inviting atmosphere! \nThis program is included in all reservations to visit the Conservatory\, book your reservation ahead of time here: here (link opens in a new tab) \nFamily programs are supported in part by Peoples Gas Community Fund\, The Dr. Scholl Foundation and PNC.” \n-Description from the Garfield Park Conservatory Website
URL:https://chiwithkids.com/event/art-after-dark/2025-10-15/
LOCATION:Garfield Park Conservatory\, 300 N Central Park Ave\, Chicago\, IL\, 60624\, United States
CATEGORIES:Art,Free,Nature,Science
ATTACH;FMTTYPE=image/jpeg:https://chiwithkids.com/wp-content/uploads/2024/06/cuttingwithscissors.jpg
END:VEVENT
END:VCALENDAR