BEGIN:VCALENDAR
VERSION:2.0
PRODID:-//Chicago With Kids - ECPv6.15.13.1//NONSGML v1.0//EN
CALSCALE:GREGORIAN
METHOD:PUBLISH
X-ORIGINAL-URL:https://chiwithkids.com
X-WR-CALDESC:Events for Chicago With Kids
REFRESH-INTERVAL;VALUE=DURATION:PT1H
X-Robots-Tag:noindex
X-PUBLISHED-TTL:PT1H
BEGIN:VTIMEZONE
TZID:America/Chicago
BEGIN:DAYLIGHT
TZOFFSETFROM:-0600
TZOFFSETTO:-0500
TZNAME:CDT
DTSTART:20250309T080000
END:DAYLIGHT
BEGIN:STANDARD
TZOFFSETFROM:-0500
TZOFFSETTO:-0600
TZNAME:CST
DTSTART:20251102T070000
END:STANDARD
BEGIN:DAYLIGHT
TZOFFSETFROM:-0600
TZOFFSETTO:-0500
TZNAME:CDT
DTSTART:20260308T080000
END:DAYLIGHT
BEGIN:STANDARD
TZOFFSETFROM:-0500
TZOFFSETTO:-0600
TZNAME:CST
DTSTART:20261101T070000
END:STANDARD
BEGIN:DAYLIGHT
TZOFFSETFROM:-0600
TZOFFSETTO:-0500
TZNAME:CDT
DTSTART:20270314T080000
END:DAYLIGHT
BEGIN:STANDARD
TZOFFSETFROM:-0500
TZOFFSETTO:-0600
TZNAME:CST
DTSTART:20271107T070000
END:STANDARD
BEGIN:DAYLIGHT
TZOFFSETFROM:-0600
TZOFFSETTO:-0500
TZNAME:CDT
DTSTART:20280312T080000
END:DAYLIGHT
BEGIN:STANDARD
TZOFFSETFROM:-0500
TZOFFSETTO:-0600
TZNAME:CST
DTSTART:20281105T070000
END:STANDARD
END:VTIMEZONE
BEGIN:VEVENT
DTSTART;TZID=America/Chicago:20260917T100000
DTEND;TZID=America/Chicago:20260917T160000
DTSTAMP:20260422T053316
CREATED:20240617T114248Z
LAST-MODIFIED:20240617T114248Z
UID:10003180-1789639200-1789660800@chiwithkids.com
SUMMARY:Free Admission at the Peggy Notebaert Nature Museum
DESCRIPTION:Illinois Residents can enjoy FREE admission to the Peggy Notebaert Nature Museum. A $10 suggested donation per household is greatly appreciated.
URL:https://chiwithkids.com/event/free-admission-at-the-peggy-notebaert-nature-museum-7/2026-09-17/
LOCATION:Peggy Notebaert Nature Museum\, 2430 N Cannon Dr\, Chicago\, IL\, 60614\, United States
CATEGORIES:Free,Nature,Science
ATTACH;FMTTYPE=image/jpeg:https://chiwithkids.com/wp-content/uploads/2023/05/IMG_4789-scaled.webp
END:VEVENT
BEGIN:VEVENT
DTSTART;TZID=America/Chicago:20260924T100000
DTEND;TZID=America/Chicago:20260924T160000
DTSTAMP:20260422T053316
CREATED:20240617T114248Z
LAST-MODIFIED:20240617T114248Z
UID:10003181-1790244000-1790265600@chiwithkids.com
SUMMARY:Free Admission at the Peggy Notebaert Nature Museum
DESCRIPTION:Illinois Residents can enjoy FREE admission to the Peggy Notebaert Nature Museum. A $10 suggested donation per household is greatly appreciated.
URL:https://chiwithkids.com/event/free-admission-at-the-peggy-notebaert-nature-museum-7/2026-09-24/
LOCATION:Peggy Notebaert Nature Museum\, 2430 N Cannon Dr\, Chicago\, IL\, 60614\, United States
CATEGORIES:Free,Nature,Science
ATTACH;FMTTYPE=image/jpeg:https://chiwithkids.com/wp-content/uploads/2023/05/IMG_4789-scaled.webp
END:VEVENT
BEGIN:VEVENT
DTSTART;TZID=America/Chicago:20261001T100000
DTEND;TZID=America/Chicago:20261001T160000
DTSTAMP:20260422T053316
CREATED:20240617T114248Z
LAST-MODIFIED:20240617T114248Z
UID:10003182-1790848800-1790870400@chiwithkids.com
SUMMARY:Free Admission at the Peggy Notebaert Nature Museum
DESCRIPTION:Illinois Residents can enjoy FREE admission to the Peggy Notebaert Nature Museum. A $10 suggested donation per household is greatly appreciated.
URL:https://chiwithkids.com/event/free-admission-at-the-peggy-notebaert-nature-museum-7/2026-10-01/
LOCATION:Peggy Notebaert Nature Museum\, 2430 N Cannon Dr\, Chicago\, IL\, 60614\, United States
CATEGORIES:Free,Nature,Science
ATTACH;FMTTYPE=image/jpeg:https://chiwithkids.com/wp-content/uploads/2023/05/IMG_4789-scaled.webp
END:VEVENT
BEGIN:VEVENT
DTSTART;TZID=America/Chicago:20261008T100000
DTEND;TZID=America/Chicago:20261008T160000
DTSTAMP:20260422T053316
CREATED:20240617T114248Z
LAST-MODIFIED:20240617T114248Z
UID:10003183-1791453600-1791475200@chiwithkids.com
SUMMARY:Free Admission at the Peggy Notebaert Nature Museum
DESCRIPTION:Illinois Residents can enjoy FREE admission to the Peggy Notebaert Nature Museum. A $10 suggested donation per household is greatly appreciated.
URL:https://chiwithkids.com/event/free-admission-at-the-peggy-notebaert-nature-museum-7/2026-10-08/
LOCATION:Peggy Notebaert Nature Museum\, 2430 N Cannon Dr\, Chicago\, IL\, 60614\, United States
CATEGORIES:Free,Nature,Science
ATTACH;FMTTYPE=image/jpeg:https://chiwithkids.com/wp-content/uploads/2023/05/IMG_4789-scaled.webp
END:VEVENT
BEGIN:VEVENT
DTSTART;TZID=America/Chicago:20261015T100000
DTEND;TZID=America/Chicago:20261015T160000
DTSTAMP:20260422T053316
CREATED:20240617T114248Z
LAST-MODIFIED:20240617T114248Z
UID:10003184-1792058400-1792080000@chiwithkids.com
SUMMARY:Free Admission at the Peggy Notebaert Nature Museum
DESCRIPTION:Illinois Residents can enjoy FREE admission to the Peggy Notebaert Nature Museum. A $10 suggested donation per household is greatly appreciated.
URL:https://chiwithkids.com/event/free-admission-at-the-peggy-notebaert-nature-museum-7/2026-10-15/
LOCATION:Peggy Notebaert Nature Museum\, 2430 N Cannon Dr\, Chicago\, IL\, 60614\, United States
CATEGORIES:Free,Nature,Science
ATTACH;FMTTYPE=image/jpeg:https://chiwithkids.com/wp-content/uploads/2023/05/IMG_4789-scaled.webp
END:VEVENT
BEGIN:VEVENT
DTSTART;TZID=America/Chicago:20261022T100000
DTEND;TZID=America/Chicago:20261022T160000
DTSTAMP:20260422T053316
CREATED:20240617T114248Z
LAST-MODIFIED:20240617T114248Z
UID:10003185-1792663200-1792684800@chiwithkids.com
SUMMARY:Free Admission at the Peggy Notebaert Nature Museum
DESCRIPTION:Illinois Residents can enjoy FREE admission to the Peggy Notebaert Nature Museum. A $10 suggested donation per household is greatly appreciated.
URL:https://chiwithkids.com/event/free-admission-at-the-peggy-notebaert-nature-museum-7/2026-10-22/
LOCATION:Peggy Notebaert Nature Museum\, 2430 N Cannon Dr\, Chicago\, IL\, 60614\, United States
CATEGORIES:Free,Nature,Science
ATTACH;FMTTYPE=image/jpeg:https://chiwithkids.com/wp-content/uploads/2023/05/IMG_4789-scaled.webp
END:VEVENT
BEGIN:VEVENT
DTSTART;TZID=America/Chicago:20261029T100000
DTEND;TZID=America/Chicago:20261029T160000
DTSTAMP:20260422T053316
CREATED:20240617T114248Z
LAST-MODIFIED:20240617T114248Z
UID:10003186-1793268000-1793289600@chiwithkids.com
SUMMARY:Free Admission at the Peggy Notebaert Nature Museum
DESCRIPTION:Illinois Residents can enjoy FREE admission to the Peggy Notebaert Nature Museum. A $10 suggested donation per household is greatly appreciated.
URL:https://chiwithkids.com/event/free-admission-at-the-peggy-notebaert-nature-museum-7/2026-10-29/
LOCATION:Peggy Notebaert Nature Museum\, 2430 N Cannon Dr\, Chicago\, IL\, 60614\, United States
CATEGORIES:Free,Nature,Science
ATTACH;FMTTYPE=image/jpeg:https://chiwithkids.com/wp-content/uploads/2023/05/IMG_4789-scaled.webp
END:VEVENT
BEGIN:VEVENT
DTSTART;TZID=America/Chicago:20261105T100000
DTEND;TZID=America/Chicago:20261105T160000
DTSTAMP:20260422T053316
CREATED:20240617T114248Z
LAST-MODIFIED:20240617T114248Z
UID:10003187-1793872800-1793894400@chiwithkids.com
SUMMARY:Free Admission at the Peggy Notebaert Nature Museum
DESCRIPTION:Illinois Residents can enjoy FREE admission to the Peggy Notebaert Nature Museum. A $10 suggested donation per household is greatly appreciated.
URL:https://chiwithkids.com/event/free-admission-at-the-peggy-notebaert-nature-museum-7/2026-11-05/
LOCATION:Peggy Notebaert Nature Museum\, 2430 N Cannon Dr\, Chicago\, IL\, 60614\, United States
CATEGORIES:Free,Nature,Science
ATTACH;FMTTYPE=image/jpeg:https://chiwithkids.com/wp-content/uploads/2023/05/IMG_4789-scaled.webp
END:VEVENT
BEGIN:VEVENT
DTSTART;TZID=America/Chicago:20261112T100000
DTEND;TZID=America/Chicago:20261112T160000
DTSTAMP:20260422T053316
CREATED:20240617T114248Z
LAST-MODIFIED:20240617T114248Z
UID:10003188-1794477600-1794499200@chiwithkids.com
SUMMARY:Free Admission at the Peggy Notebaert Nature Museum
DESCRIPTION:Illinois Residents can enjoy FREE admission to the Peggy Notebaert Nature Museum. A $10 suggested donation per household is greatly appreciated.
URL:https://chiwithkids.com/event/free-admission-at-the-peggy-notebaert-nature-museum-7/2026-11-12/
LOCATION:Peggy Notebaert Nature Museum\, 2430 N Cannon Dr\, Chicago\, IL\, 60614\, United States
CATEGORIES:Free,Nature,Science
ATTACH;FMTTYPE=image/jpeg:https://chiwithkids.com/wp-content/uploads/2023/05/IMG_4789-scaled.webp
END:VEVENT
BEGIN:VEVENT
DTSTART;TZID=America/Chicago:20261119T100000
DTEND;TZID=America/Chicago:20261119T160000
DTSTAMP:20260422T053316
CREATED:20240617T114248Z
LAST-MODIFIED:20240617T114248Z
UID:10003189-1795082400-1795104000@chiwithkids.com
SUMMARY:Free Admission at the Peggy Notebaert Nature Museum
DESCRIPTION:Illinois Residents can enjoy FREE admission to the Peggy Notebaert Nature Museum. A $10 suggested donation per household is greatly appreciated.
URL:https://chiwithkids.com/event/free-admission-at-the-peggy-notebaert-nature-museum-7/2026-11-19/
LOCATION:Peggy Notebaert Nature Museum\, 2430 N Cannon Dr\, Chicago\, IL\, 60614\, United States
CATEGORIES:Free,Nature,Science
ATTACH;FMTTYPE=image/jpeg:https://chiwithkids.com/wp-content/uploads/2023/05/IMG_4789-scaled.webp
END:VEVENT
BEGIN:VEVENT
DTSTART;TZID=America/Chicago:20261126T100000
DTEND;TZID=America/Chicago:20261126T160000
DTSTAMP:20260422T053316
CREATED:20240617T114248Z
LAST-MODIFIED:20240617T114248Z
UID:10003190-1795687200-1795708800@chiwithkids.com
SUMMARY:Free Admission at the Peggy Notebaert Nature Museum
DESCRIPTION:Illinois Residents can enjoy FREE admission to the Peggy Notebaert Nature Museum. A $10 suggested donation per household is greatly appreciated.
URL:https://chiwithkids.com/event/free-admission-at-the-peggy-notebaert-nature-museum-7/2026-11-26/
LOCATION:Peggy Notebaert Nature Museum\, 2430 N Cannon Dr\, Chicago\, IL\, 60614\, United States
CATEGORIES:Free,Nature,Science
ATTACH;FMTTYPE=image/jpeg:https://chiwithkids.com/wp-content/uploads/2023/05/IMG_4789-scaled.webp
END:VEVENT
BEGIN:VEVENT
DTSTART;TZID=America/Chicago:20261203T100000
DTEND;TZID=America/Chicago:20261203T160000
DTSTAMP:20260422T053316
CREATED:20240617T114248Z
LAST-MODIFIED:20240617T114248Z
UID:10003191-1796292000-1796313600@chiwithkids.com
SUMMARY:Free Admission at the Peggy Notebaert Nature Museum
DESCRIPTION:Illinois Residents can enjoy FREE admission to the Peggy Notebaert Nature Museum. A $10 suggested donation per household is greatly appreciated.
URL:https://chiwithkids.com/event/free-admission-at-the-peggy-notebaert-nature-museum-7/2026-12-03/
LOCATION:Peggy Notebaert Nature Museum\, 2430 N Cannon Dr\, Chicago\, IL\, 60614\, United States
CATEGORIES:Free,Nature,Science
ATTACH;FMTTYPE=image/jpeg:https://chiwithkids.com/wp-content/uploads/2023/05/IMG_4789-scaled.webp
END:VEVENT
BEGIN:VEVENT
DTSTART;TZID=America/Chicago:20261210T100000
DTEND;TZID=America/Chicago:20261210T160000
DTSTAMP:20260422T053316
CREATED:20240617T114248Z
LAST-MODIFIED:20240617T114248Z
UID:10003192-1796896800-1796918400@chiwithkids.com
SUMMARY:Free Admission at the Peggy Notebaert Nature Museum
DESCRIPTION:Illinois Residents can enjoy FREE admission to the Peggy Notebaert Nature Museum. A $10 suggested donation per household is greatly appreciated.
URL:https://chiwithkids.com/event/free-admission-at-the-peggy-notebaert-nature-museum-7/2026-12-10/
LOCATION:Peggy Notebaert Nature Museum\, 2430 N Cannon Dr\, Chicago\, IL\, 60614\, United States
CATEGORIES:Free,Nature,Science
ATTACH;FMTTYPE=image/jpeg:https://chiwithkids.com/wp-content/uploads/2023/05/IMG_4789-scaled.webp
END:VEVENT
BEGIN:VEVENT
DTSTART;TZID=America/Chicago:20261217T100000
DTEND;TZID=America/Chicago:20261217T160000
DTSTAMP:20260422T053316
CREATED:20240617T114248Z
LAST-MODIFIED:20240617T114248Z
UID:10003193-1797501600-1797523200@chiwithkids.com
SUMMARY:Free Admission at the Peggy Notebaert Nature Museum
DESCRIPTION:Illinois Residents can enjoy FREE admission to the Peggy Notebaert Nature Museum. A $10 suggested donation per household is greatly appreciated.
URL:https://chiwithkids.com/event/free-admission-at-the-peggy-notebaert-nature-museum-7/2026-12-17/
LOCATION:Peggy Notebaert Nature Museum\, 2430 N Cannon Dr\, Chicago\, IL\, 60614\, United States
CATEGORIES:Free,Nature,Science
ATTACH;FMTTYPE=image/jpeg:https://chiwithkids.com/wp-content/uploads/2023/05/IMG_4789-scaled.webp
END:VEVENT
BEGIN:VEVENT
DTSTART;TZID=America/Chicago:20261224T100000
DTEND;TZID=America/Chicago:20261224T160000
DTSTAMP:20260422T053316
CREATED:20240617T114248Z
LAST-MODIFIED:20240617T114248Z
UID:10003194-1798106400-1798128000@chiwithkids.com
SUMMARY:Free Admission at the Peggy Notebaert Nature Museum
DESCRIPTION:Illinois Residents can enjoy FREE admission to the Peggy Notebaert Nature Museum. A $10 suggested donation per household is greatly appreciated.
URL:https://chiwithkids.com/event/free-admission-at-the-peggy-notebaert-nature-museum-7/2026-12-24/
LOCATION:Peggy Notebaert Nature Museum\, 2430 N Cannon Dr\, Chicago\, IL\, 60614\, United States
CATEGORIES:Free,Nature,Science
ATTACH;FMTTYPE=image/jpeg:https://chiwithkids.com/wp-content/uploads/2023/05/IMG_4789-scaled.webp
END:VEVENT
BEGIN:VEVENT
DTSTART;TZID=America/Chicago:20261231T100000
DTEND;TZID=America/Chicago:20261231T160000
DTSTAMP:20260422T053316
CREATED:20240617T114248Z
LAST-MODIFIED:20240617T114248Z
UID:10003195-1798711200-1798732800@chiwithkids.com
SUMMARY:Free Admission at the Peggy Notebaert Nature Museum
DESCRIPTION:Illinois Residents can enjoy FREE admission to the Peggy Notebaert Nature Museum. A $10 suggested donation per household is greatly appreciated.
URL:https://chiwithkids.com/event/free-admission-at-the-peggy-notebaert-nature-museum-7/2026-12-31/
LOCATION:Peggy Notebaert Nature Museum\, 2430 N Cannon Dr\, Chicago\, IL\, 60614\, United States
CATEGORIES:Free,Nature,Science
ATTACH;FMTTYPE=image/jpeg:https://chiwithkids.com/wp-content/uploads/2023/05/IMG_4789-scaled.webp
END:VEVENT
BEGIN:VEVENT
DTSTART;TZID=America/Chicago:20270107T100000
DTEND;TZID=America/Chicago:20270107T160000
DTSTAMP:20260422T053316
CREATED:20240617T114248Z
LAST-MODIFIED:20240617T114248Z
UID:10003196-1799316000-1799337600@chiwithkids.com
SUMMARY:Free Admission at the Peggy Notebaert Nature Museum
DESCRIPTION:Illinois Residents can enjoy FREE admission to the Peggy Notebaert Nature Museum. A $10 suggested donation per household is greatly appreciated.
URL:https://chiwithkids.com/event/free-admission-at-the-peggy-notebaert-nature-museum-7/2027-01-07/
LOCATION:Peggy Notebaert Nature Museum\, 2430 N Cannon Dr\, Chicago\, IL\, 60614\, United States
CATEGORIES:Free,Nature,Science
ATTACH;FMTTYPE=image/jpeg:https://chiwithkids.com/wp-content/uploads/2023/05/IMG_4789-scaled.webp
END:VEVENT
BEGIN:VEVENT
DTSTART;TZID=America/Chicago:20270114T100000
DTEND;TZID=America/Chicago:20270114T160000
DTSTAMP:20260422T053316
CREATED:20240617T114248Z
LAST-MODIFIED:20240617T114248Z
UID:10003197-1799920800-1799942400@chiwithkids.com
SUMMARY:Free Admission at the Peggy Notebaert Nature Museum
DESCRIPTION:Illinois Residents can enjoy FREE admission to the Peggy Notebaert Nature Museum. A $10 suggested donation per household is greatly appreciated.
URL:https://chiwithkids.com/event/free-admission-at-the-peggy-notebaert-nature-museum-7/2027-01-14/
LOCATION:Peggy Notebaert Nature Museum\, 2430 N Cannon Dr\, Chicago\, IL\, 60614\, United States
CATEGORIES:Free,Nature,Science
ATTACH;FMTTYPE=image/jpeg:https://chiwithkids.com/wp-content/uploads/2023/05/IMG_4789-scaled.webp
END:VEVENT
BEGIN:VEVENT
DTSTART;TZID=America/Chicago:20270121T100000
DTEND;TZID=America/Chicago:20270121T160000
DTSTAMP:20260422T053316
CREATED:20240617T114248Z
LAST-MODIFIED:20240617T114248Z
UID:10003198-1800525600-1800547200@chiwithkids.com
SUMMARY:Free Admission at the Peggy Notebaert Nature Museum
DESCRIPTION:Illinois Residents can enjoy FREE admission to the Peggy Notebaert Nature Museum. A $10 suggested donation per household is greatly appreciated.
URL:https://chiwithkids.com/event/free-admission-at-the-peggy-notebaert-nature-museum-7/2027-01-21/
LOCATION:Peggy Notebaert Nature Museum\, 2430 N Cannon Dr\, Chicago\, IL\, 60614\, United States
CATEGORIES:Free,Nature,Science
ATTACH;FMTTYPE=image/jpeg:https://chiwithkids.com/wp-content/uploads/2023/05/IMG_4789-scaled.webp
END:VEVENT
BEGIN:VEVENT
DTSTART;TZID=America/Chicago:20270128T100000
DTEND;TZID=America/Chicago:20270128T160000
DTSTAMP:20260422T053316
CREATED:20240617T114248Z
LAST-MODIFIED:20240617T114248Z
UID:10003199-1801130400-1801152000@chiwithkids.com
SUMMARY:Free Admission at the Peggy Notebaert Nature Museum
DESCRIPTION:Illinois Residents can enjoy FREE admission to the Peggy Notebaert Nature Museum. A $10 suggested donation per household is greatly appreciated.
URL:https://chiwithkids.com/event/free-admission-at-the-peggy-notebaert-nature-museum-7/2027-01-28/
LOCATION:Peggy Notebaert Nature Museum\, 2430 N Cannon Dr\, Chicago\, IL\, 60614\, United States
CATEGORIES:Free,Nature,Science
ATTACH;FMTTYPE=image/jpeg:https://chiwithkids.com/wp-content/uploads/2023/05/IMG_4789-scaled.webp
END:VEVENT
BEGIN:VEVENT
DTSTART;TZID=America/Chicago:20270204T100000
DTEND;TZID=America/Chicago:20270204T160000
DTSTAMP:20260422T053316
CREATED:20240617T114248Z
LAST-MODIFIED:20240617T114248Z
UID:10003200-1801735200-1801756800@chiwithkids.com
SUMMARY:Free Admission at the Peggy Notebaert Nature Museum
DESCRIPTION:Illinois Residents can enjoy FREE admission to the Peggy Notebaert Nature Museum. A $10 suggested donation per household is greatly appreciated.
URL:https://chiwithkids.com/event/free-admission-at-the-peggy-notebaert-nature-museum-7/2027-02-04/
LOCATION:Peggy Notebaert Nature Museum\, 2430 N Cannon Dr\, Chicago\, IL\, 60614\, United States
CATEGORIES:Free,Nature,Science
ATTACH;FMTTYPE=image/jpeg:https://chiwithkids.com/wp-content/uploads/2023/05/IMG_4789-scaled.webp
END:VEVENT
BEGIN:VEVENT
DTSTART;TZID=America/Chicago:20270211T100000
DTEND;TZID=America/Chicago:20270211T160000
DTSTAMP:20260422T053316
CREATED:20240617T114248Z
LAST-MODIFIED:20240617T114248Z
UID:10003201-1802340000-1802361600@chiwithkids.com
SUMMARY:Free Admission at the Peggy Notebaert Nature Museum
DESCRIPTION:Illinois Residents can enjoy FREE admission to the Peggy Notebaert Nature Museum. A $10 suggested donation per household is greatly appreciated.
URL:https://chiwithkids.com/event/free-admission-at-the-peggy-notebaert-nature-museum-7/2027-02-11/
LOCATION:Peggy Notebaert Nature Museum\, 2430 N Cannon Dr\, Chicago\, IL\, 60614\, United States
CATEGORIES:Free,Nature,Science
ATTACH;FMTTYPE=image/jpeg:https://chiwithkids.com/wp-content/uploads/2023/05/IMG_4789-scaled.webp
END:VEVENT
BEGIN:VEVENT
DTSTART;TZID=America/Chicago:20270218T100000
DTEND;TZID=America/Chicago:20270218T160000
DTSTAMP:20260422T053316
CREATED:20240617T114248Z
LAST-MODIFIED:20240617T114248Z
UID:10003202-1802944800-1802966400@chiwithkids.com
SUMMARY:Free Admission at the Peggy Notebaert Nature Museum
DESCRIPTION:Illinois Residents can enjoy FREE admission to the Peggy Notebaert Nature Museum. A $10 suggested donation per household is greatly appreciated.
URL:https://chiwithkids.com/event/free-admission-at-the-peggy-notebaert-nature-museum-7/2027-02-18/
LOCATION:Peggy Notebaert Nature Museum\, 2430 N Cannon Dr\, Chicago\, IL\, 60614\, United States
CATEGORIES:Free,Nature,Science
ATTACH;FMTTYPE=image/jpeg:https://chiwithkids.com/wp-content/uploads/2023/05/IMG_4789-scaled.webp
END:VEVENT
BEGIN:VEVENT
DTSTART;TZID=America/Chicago:20270225T100000
DTEND;TZID=America/Chicago:20270225T160000
DTSTAMP:20260422T053316
CREATED:20240617T114248Z
LAST-MODIFIED:20240617T114248Z
UID:10003203-1803549600-1803571200@chiwithkids.com
SUMMARY:Free Admission at the Peggy Notebaert Nature Museum
DESCRIPTION:Illinois Residents can enjoy FREE admission to the Peggy Notebaert Nature Museum. A $10 suggested donation per household is greatly appreciated.
URL:https://chiwithkids.com/event/free-admission-at-the-peggy-notebaert-nature-museum-7/2027-02-25/
LOCATION:Peggy Notebaert Nature Museum\, 2430 N Cannon Dr\, Chicago\, IL\, 60614\, United States
CATEGORIES:Free,Nature,Science
ATTACH;FMTTYPE=image/jpeg:https://chiwithkids.com/wp-content/uploads/2023/05/IMG_4789-scaled.webp
END:VEVENT
BEGIN:VEVENT
DTSTART;TZID=America/Chicago:20270304T100000
DTEND;TZID=America/Chicago:20270304T160000
DTSTAMP:20260422T053316
CREATED:20240617T114248Z
LAST-MODIFIED:20240617T114248Z
UID:10003204-1804154400-1804176000@chiwithkids.com
SUMMARY:Free Admission at the Peggy Notebaert Nature Museum
DESCRIPTION:Illinois Residents can enjoy FREE admission to the Peggy Notebaert Nature Museum. A $10 suggested donation per household is greatly appreciated.
URL:https://chiwithkids.com/event/free-admission-at-the-peggy-notebaert-nature-museum-7/2027-03-04/
LOCATION:Peggy Notebaert Nature Museum\, 2430 N Cannon Dr\, Chicago\, IL\, 60614\, United States
CATEGORIES:Free,Nature,Science
ATTACH;FMTTYPE=image/jpeg:https://chiwithkids.com/wp-content/uploads/2023/05/IMG_4789-scaled.webp
END:VEVENT
BEGIN:VEVENT
DTSTART;TZID=America/Chicago:20270311T100000
DTEND;TZID=America/Chicago:20270311T160000
DTSTAMP:20260422T053316
CREATED:20240617T114248Z
LAST-MODIFIED:20240617T114248Z
UID:10003205-1804759200-1804780800@chiwithkids.com
SUMMARY:Free Admission at the Peggy Notebaert Nature Museum
DESCRIPTION:Illinois Residents can enjoy FREE admission to the Peggy Notebaert Nature Museum. A $10 suggested donation per household is greatly appreciated.
URL:https://chiwithkids.com/event/free-admission-at-the-peggy-notebaert-nature-museum-7/2027-03-11/
LOCATION:Peggy Notebaert Nature Museum\, 2430 N Cannon Dr\, Chicago\, IL\, 60614\, United States
CATEGORIES:Free,Nature,Science
ATTACH;FMTTYPE=image/jpeg:https://chiwithkids.com/wp-content/uploads/2023/05/IMG_4789-scaled.webp
END:VEVENT
BEGIN:VEVENT
DTSTART;TZID=America/Chicago:20270318T100000
DTEND;TZID=America/Chicago:20270318T160000
DTSTAMP:20260422T053316
CREATED:20240617T114248Z
LAST-MODIFIED:20240617T114248Z
UID:10003206-1805364000-1805385600@chiwithkids.com
SUMMARY:Free Admission at the Peggy Notebaert Nature Museum
DESCRIPTION:Illinois Residents can enjoy FREE admission to the Peggy Notebaert Nature Museum. A $10 suggested donation per household is greatly appreciated.
URL:https://chiwithkids.com/event/free-admission-at-the-peggy-notebaert-nature-museum-7/2027-03-18/
LOCATION:Peggy Notebaert Nature Museum\, 2430 N Cannon Dr\, Chicago\, IL\, 60614\, United States
CATEGORIES:Free,Nature,Science
ATTACH;FMTTYPE=image/jpeg:https://chiwithkids.com/wp-content/uploads/2023/05/IMG_4789-scaled.webp
END:VEVENT
BEGIN:VEVENT
DTSTART;TZID=America/Chicago:20270325T100000
DTEND;TZID=America/Chicago:20270325T160000
DTSTAMP:20260422T053316
CREATED:20240617T114248Z
LAST-MODIFIED:20240617T114248Z
UID:10003207-1805968800-1805990400@chiwithkids.com
SUMMARY:Free Admission at the Peggy Notebaert Nature Museum
DESCRIPTION:Illinois Residents can enjoy FREE admission to the Peggy Notebaert Nature Museum. A $10 suggested donation per household is greatly appreciated.
URL:https://chiwithkids.com/event/free-admission-at-the-peggy-notebaert-nature-museum-7/2027-03-25/
LOCATION:Peggy Notebaert Nature Museum\, 2430 N Cannon Dr\, Chicago\, IL\, 60614\, United States
CATEGORIES:Free,Nature,Science
ATTACH;FMTTYPE=image/jpeg:https://chiwithkids.com/wp-content/uploads/2023/05/IMG_4789-scaled.webp
END:VEVENT
BEGIN:VEVENT
DTSTART;TZID=America/Chicago:20270401T100000
DTEND;TZID=America/Chicago:20270401T160000
DTSTAMP:20260422T053316
CREATED:20240617T114248Z
LAST-MODIFIED:20240617T114248Z
UID:10003208-1806573600-1806595200@chiwithkids.com
SUMMARY:Free Admission at the Peggy Notebaert Nature Museum
DESCRIPTION:Illinois Residents can enjoy FREE admission to the Peggy Notebaert Nature Museum. A $10 suggested donation per household is greatly appreciated.
URL:https://chiwithkids.com/event/free-admission-at-the-peggy-notebaert-nature-museum-7/2027-04-01/
LOCATION:Peggy Notebaert Nature Museum\, 2430 N Cannon Dr\, Chicago\, IL\, 60614\, United States
CATEGORIES:Free,Nature,Science
ATTACH;FMTTYPE=image/jpeg:https://chiwithkids.com/wp-content/uploads/2023/05/IMG_4789-scaled.webp
END:VEVENT
BEGIN:VEVENT
DTSTART;TZID=America/Chicago:20270408T100000
DTEND;TZID=America/Chicago:20270408T160000
DTSTAMP:20260422T053316
CREATED:20240617T114248Z
LAST-MODIFIED:20240617T114248Z
UID:10003209-1807178400-1807200000@chiwithkids.com
SUMMARY:Free Admission at the Peggy Notebaert Nature Museum
DESCRIPTION:Illinois Residents can enjoy FREE admission to the Peggy Notebaert Nature Museum. A $10 suggested donation per household is greatly appreciated.
URL:https://chiwithkids.com/event/free-admission-at-the-peggy-notebaert-nature-museum-7/2027-04-08/
LOCATION:Peggy Notebaert Nature Museum\, 2430 N Cannon Dr\, Chicago\, IL\, 60614\, United States
CATEGORIES:Free,Nature,Science
ATTACH;FMTTYPE=image/jpeg:https://chiwithkids.com/wp-content/uploads/2023/05/IMG_4789-scaled.webp
END:VEVENT
END:VCALENDAR