BEGIN:VCALENDAR
VERSION:2.0
PRODID:-//Chicago With Kids - ECPv6.15.13.1//NONSGML v1.0//EN
CALSCALE:GREGORIAN
METHOD:PUBLISH
X-WR-CALNAME:Chicago With Kids
X-ORIGINAL-URL:https://chiwithkids.com
X-WR-CALDESC:Events for Chicago With Kids
REFRESH-INTERVAL;VALUE=DURATION:PT1H
X-Robots-Tag:noindex
X-PUBLISHED-TTL:PT1H
BEGIN:VTIMEZONE
TZID:America/Chicago
BEGIN:DAYLIGHT
TZOFFSETFROM:-0600
TZOFFSETTO:-0500
TZNAME:CDT
DTSTART:20260308T080000
END:DAYLIGHT
BEGIN:STANDARD
TZOFFSETFROM:-0500
TZOFFSETTO:-0600
TZNAME:CST
DTSTART:20261101T070000
END:STANDARD
BEGIN:DAYLIGHT
TZOFFSETFROM:-0600
TZOFFSETTO:-0500
TZNAME:CDT
DTSTART:20270314T080000
END:DAYLIGHT
BEGIN:STANDARD
TZOFFSETFROM:-0500
TZOFFSETTO:-0600
TZNAME:CST
DTSTART:20271107T070000
END:STANDARD
BEGIN:DAYLIGHT
TZOFFSETFROM:-0600
TZOFFSETTO:-0500
TZNAME:CDT
DTSTART:20280312T080000
END:DAYLIGHT
BEGIN:STANDARD
TZOFFSETFROM:-0500
TZOFFSETTO:-0600
TZNAME:CST
DTSTART:20281105T070000
END:STANDARD
BEGIN:DAYLIGHT
TZOFFSETFROM:-0600
TZOFFSETTO:-0500
TZNAME:CDT
DTSTART:20290311T080000
END:DAYLIGHT
BEGIN:STANDARD
TZOFFSETFROM:-0500
TZOFFSETTO:-0600
TZNAME:CST
DTSTART:20291104T070000
END:STANDARD
END:VTIMEZONE
BEGIN:VEVENT
DTSTART;TZID=America/Chicago:20270624T100000
DTEND;TZID=America/Chicago:20270624T160000
DTSTAMP:20260422T123023
CREATED:20240617T114248Z
LAST-MODIFIED:20240617T114248Z
UID:10003220-1813831200-1813852800@chiwithkids.com
SUMMARY:Free Admission at the Peggy Notebaert Nature Museum
DESCRIPTION:Illinois Residents can enjoy FREE admission to the Peggy Notebaert Nature Museum. A $10 suggested donation per household is greatly appreciated.
URL:https://chiwithkids.com/event/free-admission-at-the-peggy-notebaert-nature-museum-7/2027-06-24/
LOCATION:Peggy Notebaert Nature Museum\, 2430 N Cannon Dr\, Chicago\, IL\, 60614\, United States
CATEGORIES:Free,Nature,Science
ATTACH;FMTTYPE=image/jpeg:https://chiwithkids.com/wp-content/uploads/2023/05/IMG_4789-scaled.webp
END:VEVENT
BEGIN:VEVENT
DTSTART;TZID=America/Chicago:20270701T100000
DTEND;TZID=America/Chicago:20270701T160000
DTSTAMP:20260422T123023
CREATED:20240617T114248Z
LAST-MODIFIED:20240617T114248Z
UID:10003221-1814436000-1814457600@chiwithkids.com
SUMMARY:Free Admission at the Peggy Notebaert Nature Museum
DESCRIPTION:Illinois Residents can enjoy FREE admission to the Peggy Notebaert Nature Museum. A $10 suggested donation per household is greatly appreciated.
URL:https://chiwithkids.com/event/free-admission-at-the-peggy-notebaert-nature-museum-7/2027-07-01/
LOCATION:Peggy Notebaert Nature Museum\, 2430 N Cannon Dr\, Chicago\, IL\, 60614\, United States
CATEGORIES:Free,Nature,Science
ATTACH;FMTTYPE=image/jpeg:https://chiwithkids.com/wp-content/uploads/2023/05/IMG_4789-scaled.webp
END:VEVENT
BEGIN:VEVENT
DTSTART;TZID=America/Chicago:20270708T100000
DTEND;TZID=America/Chicago:20270708T160000
DTSTAMP:20260422T123023
CREATED:20240617T114248Z
LAST-MODIFIED:20240617T114248Z
UID:10003222-1815040800-1815062400@chiwithkids.com
SUMMARY:Free Admission at the Peggy Notebaert Nature Museum
DESCRIPTION:Illinois Residents can enjoy FREE admission to the Peggy Notebaert Nature Museum. A $10 suggested donation per household is greatly appreciated.
URL:https://chiwithkids.com/event/free-admission-at-the-peggy-notebaert-nature-museum-7/2027-07-08/
LOCATION:Peggy Notebaert Nature Museum\, 2430 N Cannon Dr\, Chicago\, IL\, 60614\, United States
CATEGORIES:Free,Nature,Science
ATTACH;FMTTYPE=image/jpeg:https://chiwithkids.com/wp-content/uploads/2023/05/IMG_4789-scaled.webp
END:VEVENT
BEGIN:VEVENT
DTSTART;TZID=America/Chicago:20270715T100000
DTEND;TZID=America/Chicago:20270715T160000
DTSTAMP:20260422T123023
CREATED:20240617T114248Z
LAST-MODIFIED:20240617T114248Z
UID:10003223-1815645600-1815667200@chiwithkids.com
SUMMARY:Free Admission at the Peggy Notebaert Nature Museum
DESCRIPTION:Illinois Residents can enjoy FREE admission to the Peggy Notebaert Nature Museum. A $10 suggested donation per household is greatly appreciated.
URL:https://chiwithkids.com/event/free-admission-at-the-peggy-notebaert-nature-museum-7/2027-07-15/
LOCATION:Peggy Notebaert Nature Museum\, 2430 N Cannon Dr\, Chicago\, IL\, 60614\, United States
CATEGORIES:Free,Nature,Science
ATTACH;FMTTYPE=image/jpeg:https://chiwithkids.com/wp-content/uploads/2023/05/IMG_4789-scaled.webp
END:VEVENT
BEGIN:VEVENT
DTSTART;TZID=America/Chicago:20270722T100000
DTEND;TZID=America/Chicago:20270722T160000
DTSTAMP:20260422T123023
CREATED:20240617T114248Z
LAST-MODIFIED:20240617T114248Z
UID:10003224-1816250400-1816272000@chiwithkids.com
SUMMARY:Free Admission at the Peggy Notebaert Nature Museum
DESCRIPTION:Illinois Residents can enjoy FREE admission to the Peggy Notebaert Nature Museum. A $10 suggested donation per household is greatly appreciated.
URL:https://chiwithkids.com/event/free-admission-at-the-peggy-notebaert-nature-museum-7/2027-07-22/
LOCATION:Peggy Notebaert Nature Museum\, 2430 N Cannon Dr\, Chicago\, IL\, 60614\, United States
CATEGORIES:Free,Nature,Science
ATTACH;FMTTYPE=image/jpeg:https://chiwithkids.com/wp-content/uploads/2023/05/IMG_4789-scaled.webp
END:VEVENT
BEGIN:VEVENT
DTSTART;TZID=America/Chicago:20270729T100000
DTEND;TZID=America/Chicago:20270729T160000
DTSTAMP:20260422T123023
CREATED:20240617T114248Z
LAST-MODIFIED:20240617T114248Z
UID:10003225-1816855200-1816876800@chiwithkids.com
SUMMARY:Free Admission at the Peggy Notebaert Nature Museum
DESCRIPTION:Illinois Residents can enjoy FREE admission to the Peggy Notebaert Nature Museum. A $10 suggested donation per household is greatly appreciated.
URL:https://chiwithkids.com/event/free-admission-at-the-peggy-notebaert-nature-museum-7/2027-07-29/
LOCATION:Peggy Notebaert Nature Museum\, 2430 N Cannon Dr\, Chicago\, IL\, 60614\, United States
CATEGORIES:Free,Nature,Science
ATTACH;FMTTYPE=image/jpeg:https://chiwithkids.com/wp-content/uploads/2023/05/IMG_4789-scaled.webp
END:VEVENT
BEGIN:VEVENT
DTSTART;TZID=America/Chicago:20270805T100000
DTEND;TZID=America/Chicago:20270805T160000
DTSTAMP:20260422T123023
CREATED:20240617T114248Z
LAST-MODIFIED:20240617T114248Z
UID:10003226-1817460000-1817481600@chiwithkids.com
SUMMARY:Free Admission at the Peggy Notebaert Nature Museum
DESCRIPTION:Illinois Residents can enjoy FREE admission to the Peggy Notebaert Nature Museum. A $10 suggested donation per household is greatly appreciated.
URL:https://chiwithkids.com/event/free-admission-at-the-peggy-notebaert-nature-museum-7/2027-08-05/
LOCATION:Peggy Notebaert Nature Museum\, 2430 N Cannon Dr\, Chicago\, IL\, 60614\, United States
CATEGORIES:Free,Nature,Science
ATTACH;FMTTYPE=image/jpeg:https://chiwithkids.com/wp-content/uploads/2023/05/IMG_4789-scaled.webp
END:VEVENT
BEGIN:VEVENT
DTSTART;TZID=America/Chicago:20270812T100000
DTEND;TZID=America/Chicago:20270812T160000
DTSTAMP:20260422T123023
CREATED:20240617T114248Z
LAST-MODIFIED:20240617T114248Z
UID:10003227-1818064800-1818086400@chiwithkids.com
SUMMARY:Free Admission at the Peggy Notebaert Nature Museum
DESCRIPTION:Illinois Residents can enjoy FREE admission to the Peggy Notebaert Nature Museum. A $10 suggested donation per household is greatly appreciated.
URL:https://chiwithkids.com/event/free-admission-at-the-peggy-notebaert-nature-museum-7/2027-08-12/
LOCATION:Peggy Notebaert Nature Museum\, 2430 N Cannon Dr\, Chicago\, IL\, 60614\, United States
CATEGORIES:Free,Nature,Science
ATTACH;FMTTYPE=image/jpeg:https://chiwithkids.com/wp-content/uploads/2023/05/IMG_4789-scaled.webp
END:VEVENT
BEGIN:VEVENT
DTSTART;TZID=America/Chicago:20270819T100000
DTEND;TZID=America/Chicago:20270819T160000
DTSTAMP:20260422T123023
CREATED:20240617T114248Z
LAST-MODIFIED:20240617T114248Z
UID:10003228-1818669600-1818691200@chiwithkids.com
SUMMARY:Free Admission at the Peggy Notebaert Nature Museum
DESCRIPTION:Illinois Residents can enjoy FREE admission to the Peggy Notebaert Nature Museum. A $10 suggested donation per household is greatly appreciated.
URL:https://chiwithkids.com/event/free-admission-at-the-peggy-notebaert-nature-museum-7/2027-08-19/
LOCATION:Peggy Notebaert Nature Museum\, 2430 N Cannon Dr\, Chicago\, IL\, 60614\, United States
CATEGORIES:Free,Nature,Science
ATTACH;FMTTYPE=image/jpeg:https://chiwithkids.com/wp-content/uploads/2023/05/IMG_4789-scaled.webp
END:VEVENT
BEGIN:VEVENT
DTSTART;TZID=America/Chicago:20270826T100000
DTEND;TZID=America/Chicago:20270826T160000
DTSTAMP:20260422T123023
CREATED:20240617T114248Z
LAST-MODIFIED:20240617T114248Z
UID:10003229-1819274400-1819296000@chiwithkids.com
SUMMARY:Free Admission at the Peggy Notebaert Nature Museum
DESCRIPTION:Illinois Residents can enjoy FREE admission to the Peggy Notebaert Nature Museum. A $10 suggested donation per household is greatly appreciated.
URL:https://chiwithkids.com/event/free-admission-at-the-peggy-notebaert-nature-museum-7/2027-08-26/
LOCATION:Peggy Notebaert Nature Museum\, 2430 N Cannon Dr\, Chicago\, IL\, 60614\, United States
CATEGORIES:Free,Nature,Science
ATTACH;FMTTYPE=image/jpeg:https://chiwithkids.com/wp-content/uploads/2023/05/IMG_4789-scaled.webp
END:VEVENT
BEGIN:VEVENT
DTSTART;TZID=America/Chicago:20270902T100000
DTEND;TZID=America/Chicago:20270902T160000
DTSTAMP:20260422T123023
CREATED:20240617T114248Z
LAST-MODIFIED:20240617T114248Z
UID:10003230-1819879200-1819900800@chiwithkids.com
SUMMARY:Free Admission at the Peggy Notebaert Nature Museum
DESCRIPTION:Illinois Residents can enjoy FREE admission to the Peggy Notebaert Nature Museum. A $10 suggested donation per household is greatly appreciated.
URL:https://chiwithkids.com/event/free-admission-at-the-peggy-notebaert-nature-museum-7/2027-09-02/
LOCATION:Peggy Notebaert Nature Museum\, 2430 N Cannon Dr\, Chicago\, IL\, 60614\, United States
CATEGORIES:Free,Nature,Science
ATTACH;FMTTYPE=image/jpeg:https://chiwithkids.com/wp-content/uploads/2023/05/IMG_4789-scaled.webp
END:VEVENT
BEGIN:VEVENT
DTSTART;TZID=America/Chicago:20270909T100000
DTEND;TZID=America/Chicago:20270909T160000
DTSTAMP:20260422T123023
CREATED:20240617T114248Z
LAST-MODIFIED:20240617T114248Z
UID:10003231-1820484000-1820505600@chiwithkids.com
SUMMARY:Free Admission at the Peggy Notebaert Nature Museum
DESCRIPTION:Illinois Residents can enjoy FREE admission to the Peggy Notebaert Nature Museum. A $10 suggested donation per household is greatly appreciated.
URL:https://chiwithkids.com/event/free-admission-at-the-peggy-notebaert-nature-museum-7/2027-09-09/
LOCATION:Peggy Notebaert Nature Museum\, 2430 N Cannon Dr\, Chicago\, IL\, 60614\, United States
CATEGORIES:Free,Nature,Science
ATTACH;FMTTYPE=image/jpeg:https://chiwithkids.com/wp-content/uploads/2023/05/IMG_4789-scaled.webp
END:VEVENT
BEGIN:VEVENT
DTSTART;TZID=America/Chicago:20270916T100000
DTEND;TZID=America/Chicago:20270916T160000
DTSTAMP:20260422T123023
CREATED:20240617T114248Z
LAST-MODIFIED:20240617T114248Z
UID:10003232-1821088800-1821110400@chiwithkids.com
SUMMARY:Free Admission at the Peggy Notebaert Nature Museum
DESCRIPTION:Illinois Residents can enjoy FREE admission to the Peggy Notebaert Nature Museum. A $10 suggested donation per household is greatly appreciated.
URL:https://chiwithkids.com/event/free-admission-at-the-peggy-notebaert-nature-museum-7/2027-09-16/
LOCATION:Peggy Notebaert Nature Museum\, 2430 N Cannon Dr\, Chicago\, IL\, 60614\, United States
CATEGORIES:Free,Nature,Science
ATTACH;FMTTYPE=image/jpeg:https://chiwithkids.com/wp-content/uploads/2023/05/IMG_4789-scaled.webp
END:VEVENT
BEGIN:VEVENT
DTSTART;TZID=America/Chicago:20270923T100000
DTEND;TZID=America/Chicago:20270923T160000
DTSTAMP:20260422T123023
CREATED:20240617T114248Z
LAST-MODIFIED:20240617T114248Z
UID:10003233-1821693600-1821715200@chiwithkids.com
SUMMARY:Free Admission at the Peggy Notebaert Nature Museum
DESCRIPTION:Illinois Residents can enjoy FREE admission to the Peggy Notebaert Nature Museum. A $10 suggested donation per household is greatly appreciated.
URL:https://chiwithkids.com/event/free-admission-at-the-peggy-notebaert-nature-museum-7/2027-09-23/
LOCATION:Peggy Notebaert Nature Museum\, 2430 N Cannon Dr\, Chicago\, IL\, 60614\, United States
CATEGORIES:Free,Nature,Science
ATTACH;FMTTYPE=image/jpeg:https://chiwithkids.com/wp-content/uploads/2023/05/IMG_4789-scaled.webp
END:VEVENT
BEGIN:VEVENT
DTSTART;TZID=America/Chicago:20270930T100000
DTEND;TZID=America/Chicago:20270930T160000
DTSTAMP:20260422T123023
CREATED:20240617T114248Z
LAST-MODIFIED:20240617T114248Z
UID:10003234-1822298400-1822320000@chiwithkids.com
SUMMARY:Free Admission at the Peggy Notebaert Nature Museum
DESCRIPTION:Illinois Residents can enjoy FREE admission to the Peggy Notebaert Nature Museum. A $10 suggested donation per household is greatly appreciated.
URL:https://chiwithkids.com/event/free-admission-at-the-peggy-notebaert-nature-museum-7/2027-09-30/
LOCATION:Peggy Notebaert Nature Museum\, 2430 N Cannon Dr\, Chicago\, IL\, 60614\, United States
CATEGORIES:Free,Nature,Science
ATTACH;FMTTYPE=image/jpeg:https://chiwithkids.com/wp-content/uploads/2023/05/IMG_4789-scaled.webp
END:VEVENT
BEGIN:VEVENT
DTSTART;TZID=America/Chicago:20271007T100000
DTEND;TZID=America/Chicago:20271007T160000
DTSTAMP:20260422T123023
CREATED:20240617T114248Z
LAST-MODIFIED:20240617T114248Z
UID:10003235-1822903200-1822924800@chiwithkids.com
SUMMARY:Free Admission at the Peggy Notebaert Nature Museum
DESCRIPTION:Illinois Residents can enjoy FREE admission to the Peggy Notebaert Nature Museum. A $10 suggested donation per household is greatly appreciated.
URL:https://chiwithkids.com/event/free-admission-at-the-peggy-notebaert-nature-museum-7/2027-10-07/
LOCATION:Peggy Notebaert Nature Museum\, 2430 N Cannon Dr\, Chicago\, IL\, 60614\, United States
CATEGORIES:Free,Nature,Science
ATTACH;FMTTYPE=image/jpeg:https://chiwithkids.com/wp-content/uploads/2023/05/IMG_4789-scaled.webp
END:VEVENT
BEGIN:VEVENT
DTSTART;TZID=America/Chicago:20271014T100000
DTEND;TZID=America/Chicago:20271014T160000
DTSTAMP:20260422T123023
CREATED:20240617T114248Z
LAST-MODIFIED:20240617T114248Z
UID:10003236-1823508000-1823529600@chiwithkids.com
SUMMARY:Free Admission at the Peggy Notebaert Nature Museum
DESCRIPTION:Illinois Residents can enjoy FREE admission to the Peggy Notebaert Nature Museum. A $10 suggested donation per household is greatly appreciated.
URL:https://chiwithkids.com/event/free-admission-at-the-peggy-notebaert-nature-museum-7/2027-10-14/
LOCATION:Peggy Notebaert Nature Museum\, 2430 N Cannon Dr\, Chicago\, IL\, 60614\, United States
CATEGORIES:Free,Nature,Science
ATTACH;FMTTYPE=image/jpeg:https://chiwithkids.com/wp-content/uploads/2023/05/IMG_4789-scaled.webp
END:VEVENT
BEGIN:VEVENT
DTSTART;TZID=America/Chicago:20271021T100000
DTEND;TZID=America/Chicago:20271021T160000
DTSTAMP:20260422T123023
CREATED:20240617T114248Z
LAST-MODIFIED:20240617T114248Z
UID:10003237-1824112800-1824134400@chiwithkids.com
SUMMARY:Free Admission at the Peggy Notebaert Nature Museum
DESCRIPTION:Illinois Residents can enjoy FREE admission to the Peggy Notebaert Nature Museum. A $10 suggested donation per household is greatly appreciated.
URL:https://chiwithkids.com/event/free-admission-at-the-peggy-notebaert-nature-museum-7/2027-10-21/
LOCATION:Peggy Notebaert Nature Museum\, 2430 N Cannon Dr\, Chicago\, IL\, 60614\, United States
CATEGORIES:Free,Nature,Science
ATTACH;FMTTYPE=image/jpeg:https://chiwithkids.com/wp-content/uploads/2023/05/IMG_4789-scaled.webp
END:VEVENT
BEGIN:VEVENT
DTSTART;TZID=America/Chicago:20271028T100000
DTEND;TZID=America/Chicago:20271028T160000
DTSTAMP:20260422T123023
CREATED:20240617T114248Z
LAST-MODIFIED:20240617T114248Z
UID:10003238-1824717600-1824739200@chiwithkids.com
SUMMARY:Free Admission at the Peggy Notebaert Nature Museum
DESCRIPTION:Illinois Residents can enjoy FREE admission to the Peggy Notebaert Nature Museum. A $10 suggested donation per household is greatly appreciated.
URL:https://chiwithkids.com/event/free-admission-at-the-peggy-notebaert-nature-museum-7/2027-10-28/
LOCATION:Peggy Notebaert Nature Museum\, 2430 N Cannon Dr\, Chicago\, IL\, 60614\, United States
CATEGORIES:Free,Nature,Science
ATTACH;FMTTYPE=image/jpeg:https://chiwithkids.com/wp-content/uploads/2023/05/IMG_4789-scaled.webp
END:VEVENT
BEGIN:VEVENT
DTSTART;TZID=America/Chicago:20271104T100000
DTEND;TZID=America/Chicago:20271104T160000
DTSTAMP:20260422T123023
CREATED:20240617T114248Z
LAST-MODIFIED:20240617T114248Z
UID:10003239-1825322400-1825344000@chiwithkids.com
SUMMARY:Free Admission at the Peggy Notebaert Nature Museum
DESCRIPTION:Illinois Residents can enjoy FREE admission to the Peggy Notebaert Nature Museum. A $10 suggested donation per household is greatly appreciated.
URL:https://chiwithkids.com/event/free-admission-at-the-peggy-notebaert-nature-museum-7/2027-11-04/
LOCATION:Peggy Notebaert Nature Museum\, 2430 N Cannon Dr\, Chicago\, IL\, 60614\, United States
CATEGORIES:Free,Nature,Science
ATTACH;FMTTYPE=image/jpeg:https://chiwithkids.com/wp-content/uploads/2023/05/IMG_4789-scaled.webp
END:VEVENT
BEGIN:VEVENT
DTSTART;TZID=America/Chicago:20271111T100000
DTEND;TZID=America/Chicago:20271111T160000
DTSTAMP:20260422T123023
CREATED:20240617T114248Z
LAST-MODIFIED:20240617T114248Z
UID:10003240-1825927200-1825948800@chiwithkids.com
SUMMARY:Free Admission at the Peggy Notebaert Nature Museum
DESCRIPTION:Illinois Residents can enjoy FREE admission to the Peggy Notebaert Nature Museum. A $10 suggested donation per household is greatly appreciated.
URL:https://chiwithkids.com/event/free-admission-at-the-peggy-notebaert-nature-museum-7/2027-11-11/
LOCATION:Peggy Notebaert Nature Museum\, 2430 N Cannon Dr\, Chicago\, IL\, 60614\, United States
CATEGORIES:Free,Nature,Science
ATTACH;FMTTYPE=image/jpeg:https://chiwithkids.com/wp-content/uploads/2023/05/IMG_4789-scaled.webp
END:VEVENT
BEGIN:VEVENT
DTSTART;TZID=America/Chicago:20271118T100000
DTEND;TZID=America/Chicago:20271118T160000
DTSTAMP:20260422T123023
CREATED:20240617T114248Z
LAST-MODIFIED:20240617T114248Z
UID:10003241-1826532000-1826553600@chiwithkids.com
SUMMARY:Free Admission at the Peggy Notebaert Nature Museum
DESCRIPTION:Illinois Residents can enjoy FREE admission to the Peggy Notebaert Nature Museum. A $10 suggested donation per household is greatly appreciated.
URL:https://chiwithkids.com/event/free-admission-at-the-peggy-notebaert-nature-museum-7/2027-11-18/
LOCATION:Peggy Notebaert Nature Museum\, 2430 N Cannon Dr\, Chicago\, IL\, 60614\, United States
CATEGORIES:Free,Nature,Science
ATTACH;FMTTYPE=image/jpeg:https://chiwithkids.com/wp-content/uploads/2023/05/IMG_4789-scaled.webp
END:VEVENT
BEGIN:VEVENT
DTSTART;TZID=America/Chicago:20271125T100000
DTEND;TZID=America/Chicago:20271125T160000
DTSTAMP:20260422T123023
CREATED:20240617T114248Z
LAST-MODIFIED:20240617T114248Z
UID:10003242-1827136800-1827158400@chiwithkids.com
SUMMARY:Free Admission at the Peggy Notebaert Nature Museum
DESCRIPTION:Illinois Residents can enjoy FREE admission to the Peggy Notebaert Nature Museum. A $10 suggested donation per household is greatly appreciated.
URL:https://chiwithkids.com/event/free-admission-at-the-peggy-notebaert-nature-museum-7/2027-11-25/
LOCATION:Peggy Notebaert Nature Museum\, 2430 N Cannon Dr\, Chicago\, IL\, 60614\, United States
CATEGORIES:Free,Nature,Science
ATTACH;FMTTYPE=image/jpeg:https://chiwithkids.com/wp-content/uploads/2023/05/IMG_4789-scaled.webp
END:VEVENT
BEGIN:VEVENT
DTSTART;TZID=America/Chicago:20271202T100000
DTEND;TZID=America/Chicago:20271202T160000
DTSTAMP:20260422T123023
CREATED:20240617T114248Z
LAST-MODIFIED:20240617T114248Z
UID:10003243-1827741600-1827763200@chiwithkids.com
SUMMARY:Free Admission at the Peggy Notebaert Nature Museum
DESCRIPTION:Illinois Residents can enjoy FREE admission to the Peggy Notebaert Nature Museum. A $10 suggested donation per household is greatly appreciated.
URL:https://chiwithkids.com/event/free-admission-at-the-peggy-notebaert-nature-museum-7/2027-12-02/
LOCATION:Peggy Notebaert Nature Museum\, 2430 N Cannon Dr\, Chicago\, IL\, 60614\, United States
CATEGORIES:Free,Nature,Science
ATTACH;FMTTYPE=image/jpeg:https://chiwithkids.com/wp-content/uploads/2023/05/IMG_4789-scaled.webp
END:VEVENT
BEGIN:VEVENT
DTSTART;TZID=America/Chicago:20271209T100000
DTEND;TZID=America/Chicago:20271209T160000
DTSTAMP:20260422T123023
CREATED:20240617T114248Z
LAST-MODIFIED:20240617T114248Z
UID:10003244-1828346400-1828368000@chiwithkids.com
SUMMARY:Free Admission at the Peggy Notebaert Nature Museum
DESCRIPTION:Illinois Residents can enjoy FREE admission to the Peggy Notebaert Nature Museum. A $10 suggested donation per household is greatly appreciated.
URL:https://chiwithkids.com/event/free-admission-at-the-peggy-notebaert-nature-museum-7/2027-12-09/
LOCATION:Peggy Notebaert Nature Museum\, 2430 N Cannon Dr\, Chicago\, IL\, 60614\, United States
CATEGORIES:Free,Nature,Science
ATTACH;FMTTYPE=image/jpeg:https://chiwithkids.com/wp-content/uploads/2023/05/IMG_4789-scaled.webp
END:VEVENT
BEGIN:VEVENT
DTSTART;TZID=America/Chicago:20271216T100000
DTEND;TZID=America/Chicago:20271216T160000
DTSTAMP:20260422T123023
CREATED:20240617T114248Z
LAST-MODIFIED:20240617T114248Z
UID:10003245-1828951200-1828972800@chiwithkids.com
SUMMARY:Free Admission at the Peggy Notebaert Nature Museum
DESCRIPTION:Illinois Residents can enjoy FREE admission to the Peggy Notebaert Nature Museum. A $10 suggested donation per household is greatly appreciated.
URL:https://chiwithkids.com/event/free-admission-at-the-peggy-notebaert-nature-museum-7/2027-12-16/
LOCATION:Peggy Notebaert Nature Museum\, 2430 N Cannon Dr\, Chicago\, IL\, 60614\, United States
CATEGORIES:Free,Nature,Science
ATTACH;FMTTYPE=image/jpeg:https://chiwithkids.com/wp-content/uploads/2023/05/IMG_4789-scaled.webp
END:VEVENT
BEGIN:VEVENT
DTSTART;TZID=America/Chicago:20271223T100000
DTEND;TZID=America/Chicago:20271223T160000
DTSTAMP:20260422T123023
CREATED:20240617T114248Z
LAST-MODIFIED:20240617T114248Z
UID:10003246-1829556000-1829577600@chiwithkids.com
SUMMARY:Free Admission at the Peggy Notebaert Nature Museum
DESCRIPTION:Illinois Residents can enjoy FREE admission to the Peggy Notebaert Nature Museum. A $10 suggested donation per household is greatly appreciated.
URL:https://chiwithkids.com/event/free-admission-at-the-peggy-notebaert-nature-museum-7/2027-12-23/
LOCATION:Peggy Notebaert Nature Museum\, 2430 N Cannon Dr\, Chicago\, IL\, 60614\, United States
CATEGORIES:Free,Nature,Science
ATTACH;FMTTYPE=image/jpeg:https://chiwithkids.com/wp-content/uploads/2023/05/IMG_4789-scaled.webp
END:VEVENT
BEGIN:VEVENT
DTSTART;TZID=America/Chicago:20271230T100000
DTEND;TZID=America/Chicago:20271230T160000
DTSTAMP:20260422T123023
CREATED:20240617T114248Z
LAST-MODIFIED:20240617T114248Z
UID:10003247-1830160800-1830182400@chiwithkids.com
SUMMARY:Free Admission at the Peggy Notebaert Nature Museum
DESCRIPTION:Illinois Residents can enjoy FREE admission to the Peggy Notebaert Nature Museum. A $10 suggested donation per household is greatly appreciated.
URL:https://chiwithkids.com/event/free-admission-at-the-peggy-notebaert-nature-museum-7/2027-12-30/
LOCATION:Peggy Notebaert Nature Museum\, 2430 N Cannon Dr\, Chicago\, IL\, 60614\, United States
CATEGORIES:Free,Nature,Science
ATTACH;FMTTYPE=image/jpeg:https://chiwithkids.com/wp-content/uploads/2023/05/IMG_4789-scaled.webp
END:VEVENT
BEGIN:VEVENT
DTSTART;TZID=America/Chicago:20280106T100000
DTEND;TZID=America/Chicago:20280106T160000
DTSTAMP:20260422T123023
CREATED:20240617T114248Z
LAST-MODIFIED:20240617T114248Z
UID:10003248-1830765600-1830787200@chiwithkids.com
SUMMARY:Free Admission at the Peggy Notebaert Nature Museum
DESCRIPTION:Illinois Residents can enjoy FREE admission to the Peggy Notebaert Nature Museum. A $10 suggested donation per household is greatly appreciated.
URL:https://chiwithkids.com/event/free-admission-at-the-peggy-notebaert-nature-museum-7/2028-01-06/
LOCATION:Peggy Notebaert Nature Museum\, 2430 N Cannon Dr\, Chicago\, IL\, 60614\, United States
CATEGORIES:Free,Nature,Science
ATTACH;FMTTYPE=image/jpeg:https://chiwithkids.com/wp-content/uploads/2023/05/IMG_4789-scaled.webp
END:VEVENT
BEGIN:VEVENT
DTSTART;TZID=America/Chicago:20280113T100000
DTEND;TZID=America/Chicago:20280113T160000
DTSTAMP:20260422T123023
CREATED:20240617T114248Z
LAST-MODIFIED:20240617T114248Z
UID:10003249-1831370400-1831392000@chiwithkids.com
SUMMARY:Free Admission at the Peggy Notebaert Nature Museum
DESCRIPTION:Illinois Residents can enjoy FREE admission to the Peggy Notebaert Nature Museum. A $10 suggested donation per household is greatly appreciated.
URL:https://chiwithkids.com/event/free-admission-at-the-peggy-notebaert-nature-museum-7/2028-01-13/
LOCATION:Peggy Notebaert Nature Museum\, 2430 N Cannon Dr\, Chicago\, IL\, 60614\, United States
CATEGORIES:Free,Nature,Science
ATTACH;FMTTYPE=image/jpeg:https://chiwithkids.com/wp-content/uploads/2023/05/IMG_4789-scaled.webp
END:VEVENT
END:VCALENDAR