BEGIN:VCALENDAR
VERSION:2.0
PRODID:-//Chicago With Kids - ECPv6.15.13.1//NONSGML v1.0//EN
CALSCALE:GREGORIAN
METHOD:PUBLISH
X-WR-CALNAME:Chicago With Kids
X-ORIGINAL-URL:https://chiwithkids.com
X-WR-CALDESC:Events for Chicago With Kids
REFRESH-INTERVAL;VALUE=DURATION:PT1H
X-Robots-Tag:noindex
X-PUBLISHED-TTL:PT1H
BEGIN:VTIMEZONE
TZID:America/Chicago
BEGIN:DAYLIGHT
TZOFFSETFROM:-0600
TZOFFSETTO:-0500
TZNAME:CDT
DTSTART:20270314T080000
END:DAYLIGHT
BEGIN:STANDARD
TZOFFSETFROM:-0500
TZOFFSETTO:-0600
TZNAME:CST
DTSTART:20271107T070000
END:STANDARD
BEGIN:DAYLIGHT
TZOFFSETFROM:-0600
TZOFFSETTO:-0500
TZNAME:CDT
DTSTART:20280312T080000
END:DAYLIGHT
BEGIN:STANDARD
TZOFFSETFROM:-0500
TZOFFSETTO:-0600
TZNAME:CST
DTSTART:20281105T070000
END:STANDARD
BEGIN:DAYLIGHT
TZOFFSETFROM:-0600
TZOFFSETTO:-0500
TZNAME:CDT
DTSTART:20290311T080000
END:DAYLIGHT
BEGIN:STANDARD
TZOFFSETFROM:-0500
TZOFFSETTO:-0600
TZNAME:CST
DTSTART:20291104T070000
END:STANDARD
BEGIN:DAYLIGHT
TZOFFSETFROM:-0600
TZOFFSETTO:-0500
TZNAME:CDT
DTSTART:20300310T080000
END:DAYLIGHT
BEGIN:STANDARD
TZOFFSETFROM:-0500
TZOFFSETTO:-0600
TZNAME:CST
DTSTART:20301103T070000
END:STANDARD
END:VTIMEZONE
BEGIN:VEVENT
DTSTART;TZID=America/Chicago:20280928T100000
DTEND;TZID=America/Chicago:20280928T160000
DTSTAMP:20260425T230407
CREATED:20240617T114248Z
LAST-MODIFIED:20240617T114248Z
UID:10003286-1853748000-1853769600@chiwithkids.com
SUMMARY:Free Admission at the Peggy Notebaert Nature Museum
DESCRIPTION:Illinois Residents can enjoy FREE admission to the Peggy Notebaert Nature Museum. A $10 suggested donation per household is greatly appreciated.
URL:https://chiwithkids.com/event/free-admission-at-the-peggy-notebaert-nature-museum-7/2028-09-28/
LOCATION:Peggy Notebaert Nature Museum\, 2430 N Cannon Dr\, Chicago\, IL\, 60614\, United States
CATEGORIES:Free,Nature,Science
ATTACH;FMTTYPE=image/jpeg:https://chiwithkids.com/wp-content/uploads/2023/05/IMG_4789-scaled.webp
END:VEVENT
BEGIN:VEVENT
DTSTART;TZID=America/Chicago:20281005T100000
DTEND;TZID=America/Chicago:20281005T160000
DTSTAMP:20260425T230407
CREATED:20240617T114248Z
LAST-MODIFIED:20240617T114248Z
UID:10003287-1854352800-1854374400@chiwithkids.com
SUMMARY:Free Admission at the Peggy Notebaert Nature Museum
DESCRIPTION:Illinois Residents can enjoy FREE admission to the Peggy Notebaert Nature Museum. A $10 suggested donation per household is greatly appreciated.
URL:https://chiwithkids.com/event/free-admission-at-the-peggy-notebaert-nature-museum-7/2028-10-05/
LOCATION:Peggy Notebaert Nature Museum\, 2430 N Cannon Dr\, Chicago\, IL\, 60614\, United States
CATEGORIES:Free,Nature,Science
ATTACH;FMTTYPE=image/jpeg:https://chiwithkids.com/wp-content/uploads/2023/05/IMG_4789-scaled.webp
END:VEVENT
BEGIN:VEVENT
DTSTART;TZID=America/Chicago:20281012T100000
DTEND;TZID=America/Chicago:20281012T160000
DTSTAMP:20260425T230407
CREATED:20240617T114248Z
LAST-MODIFIED:20240617T114248Z
UID:10003288-1854957600-1854979200@chiwithkids.com
SUMMARY:Free Admission at the Peggy Notebaert Nature Museum
DESCRIPTION:Illinois Residents can enjoy FREE admission to the Peggy Notebaert Nature Museum. A $10 suggested donation per household is greatly appreciated.
URL:https://chiwithkids.com/event/free-admission-at-the-peggy-notebaert-nature-museum-7/2028-10-12/
LOCATION:Peggy Notebaert Nature Museum\, 2430 N Cannon Dr\, Chicago\, IL\, 60614\, United States
CATEGORIES:Free,Nature,Science
ATTACH;FMTTYPE=image/jpeg:https://chiwithkids.com/wp-content/uploads/2023/05/IMG_4789-scaled.webp
END:VEVENT
BEGIN:VEVENT
DTSTART;TZID=America/Chicago:20281019T100000
DTEND;TZID=America/Chicago:20281019T160000
DTSTAMP:20260425T230407
CREATED:20240617T114248Z
LAST-MODIFIED:20240617T114248Z
UID:10003289-1855562400-1855584000@chiwithkids.com
SUMMARY:Free Admission at the Peggy Notebaert Nature Museum
DESCRIPTION:Illinois Residents can enjoy FREE admission to the Peggy Notebaert Nature Museum. A $10 suggested donation per household is greatly appreciated.
URL:https://chiwithkids.com/event/free-admission-at-the-peggy-notebaert-nature-museum-7/2028-10-19/
LOCATION:Peggy Notebaert Nature Museum\, 2430 N Cannon Dr\, Chicago\, IL\, 60614\, United States
CATEGORIES:Free,Nature,Science
ATTACH;FMTTYPE=image/jpeg:https://chiwithkids.com/wp-content/uploads/2023/05/IMG_4789-scaled.webp
END:VEVENT
BEGIN:VEVENT
DTSTART;TZID=America/Chicago:20281026T100000
DTEND;TZID=America/Chicago:20281026T160000
DTSTAMP:20260425T230407
CREATED:20240617T114248Z
LAST-MODIFIED:20240617T114248Z
UID:10003290-1856167200-1856188800@chiwithkids.com
SUMMARY:Free Admission at the Peggy Notebaert Nature Museum
DESCRIPTION:Illinois Residents can enjoy FREE admission to the Peggy Notebaert Nature Museum. A $10 suggested donation per household is greatly appreciated.
URL:https://chiwithkids.com/event/free-admission-at-the-peggy-notebaert-nature-museum-7/2028-10-26/
LOCATION:Peggy Notebaert Nature Museum\, 2430 N Cannon Dr\, Chicago\, IL\, 60614\, United States
CATEGORIES:Free,Nature,Science
ATTACH;FMTTYPE=image/jpeg:https://chiwithkids.com/wp-content/uploads/2023/05/IMG_4789-scaled.webp
END:VEVENT
BEGIN:VEVENT
DTSTART;TZID=America/Chicago:20281102T100000
DTEND;TZID=America/Chicago:20281102T160000
DTSTAMP:20260425T230407
CREATED:20240617T114248Z
LAST-MODIFIED:20240617T114248Z
UID:10003291-1856772000-1856793600@chiwithkids.com
SUMMARY:Free Admission at the Peggy Notebaert Nature Museum
DESCRIPTION:Illinois Residents can enjoy FREE admission to the Peggy Notebaert Nature Museum. A $10 suggested donation per household is greatly appreciated.
URL:https://chiwithkids.com/event/free-admission-at-the-peggy-notebaert-nature-museum-7/2028-11-02/
LOCATION:Peggy Notebaert Nature Museum\, 2430 N Cannon Dr\, Chicago\, IL\, 60614\, United States
CATEGORIES:Free,Nature,Science
ATTACH;FMTTYPE=image/jpeg:https://chiwithkids.com/wp-content/uploads/2023/05/IMG_4789-scaled.webp
END:VEVENT
BEGIN:VEVENT
DTSTART;TZID=America/Chicago:20281109T100000
DTEND;TZID=America/Chicago:20281109T160000
DTSTAMP:20260425T230407
CREATED:20240617T114248Z
LAST-MODIFIED:20240617T114248Z
UID:10003292-1857376800-1857398400@chiwithkids.com
SUMMARY:Free Admission at the Peggy Notebaert Nature Museum
DESCRIPTION:Illinois Residents can enjoy FREE admission to the Peggy Notebaert Nature Museum. A $10 suggested donation per household is greatly appreciated.
URL:https://chiwithkids.com/event/free-admission-at-the-peggy-notebaert-nature-museum-7/2028-11-09/
LOCATION:Peggy Notebaert Nature Museum\, 2430 N Cannon Dr\, Chicago\, IL\, 60614\, United States
CATEGORIES:Free,Nature,Science
ATTACH;FMTTYPE=image/jpeg:https://chiwithkids.com/wp-content/uploads/2023/05/IMG_4789-scaled.webp
END:VEVENT
BEGIN:VEVENT
DTSTART;TZID=America/Chicago:20281116T100000
DTEND;TZID=America/Chicago:20281116T160000
DTSTAMP:20260425T230407
CREATED:20240617T114248Z
LAST-MODIFIED:20240617T114248Z
UID:10003293-1857981600-1858003200@chiwithkids.com
SUMMARY:Free Admission at the Peggy Notebaert Nature Museum
DESCRIPTION:Illinois Residents can enjoy FREE admission to the Peggy Notebaert Nature Museum. A $10 suggested donation per household is greatly appreciated.
URL:https://chiwithkids.com/event/free-admission-at-the-peggy-notebaert-nature-museum-7/2028-11-16/
LOCATION:Peggy Notebaert Nature Museum\, 2430 N Cannon Dr\, Chicago\, IL\, 60614\, United States
CATEGORIES:Free,Nature,Science
ATTACH;FMTTYPE=image/jpeg:https://chiwithkids.com/wp-content/uploads/2023/05/IMG_4789-scaled.webp
END:VEVENT
BEGIN:VEVENT
DTSTART;TZID=America/Chicago:20281123T100000
DTEND;TZID=America/Chicago:20281123T160000
DTSTAMP:20260425T230407
CREATED:20240617T114248Z
LAST-MODIFIED:20240617T114248Z
UID:10003294-1858586400-1858608000@chiwithkids.com
SUMMARY:Free Admission at the Peggy Notebaert Nature Museum
DESCRIPTION:Illinois Residents can enjoy FREE admission to the Peggy Notebaert Nature Museum. A $10 suggested donation per household is greatly appreciated.
URL:https://chiwithkids.com/event/free-admission-at-the-peggy-notebaert-nature-museum-7/2028-11-23/
LOCATION:Peggy Notebaert Nature Museum\, 2430 N Cannon Dr\, Chicago\, IL\, 60614\, United States
CATEGORIES:Free,Nature,Science
ATTACH;FMTTYPE=image/jpeg:https://chiwithkids.com/wp-content/uploads/2023/05/IMG_4789-scaled.webp
END:VEVENT
BEGIN:VEVENT
DTSTART;TZID=America/Chicago:20281130T100000
DTEND;TZID=America/Chicago:20281130T160000
DTSTAMP:20260425T230407
CREATED:20240617T114248Z
LAST-MODIFIED:20240617T114248Z
UID:10003295-1859191200-1859212800@chiwithkids.com
SUMMARY:Free Admission at the Peggy Notebaert Nature Museum
DESCRIPTION:Illinois Residents can enjoy FREE admission to the Peggy Notebaert Nature Museum. A $10 suggested donation per household is greatly appreciated.
URL:https://chiwithkids.com/event/free-admission-at-the-peggy-notebaert-nature-museum-7/2028-11-30/
LOCATION:Peggy Notebaert Nature Museum\, 2430 N Cannon Dr\, Chicago\, IL\, 60614\, United States
CATEGORIES:Free,Nature,Science
ATTACH;FMTTYPE=image/jpeg:https://chiwithkids.com/wp-content/uploads/2023/05/IMG_4789-scaled.webp
END:VEVENT
BEGIN:VEVENT
DTSTART;TZID=America/Chicago:20281207T100000
DTEND;TZID=America/Chicago:20281207T160000
DTSTAMP:20260425T230407
CREATED:20240617T114248Z
LAST-MODIFIED:20240617T114248Z
UID:10003296-1859796000-1859817600@chiwithkids.com
SUMMARY:Free Admission at the Peggy Notebaert Nature Museum
DESCRIPTION:Illinois Residents can enjoy FREE admission to the Peggy Notebaert Nature Museum. A $10 suggested donation per household is greatly appreciated.
URL:https://chiwithkids.com/event/free-admission-at-the-peggy-notebaert-nature-museum-7/2028-12-07/
LOCATION:Peggy Notebaert Nature Museum\, 2430 N Cannon Dr\, Chicago\, IL\, 60614\, United States
CATEGORIES:Free,Nature,Science
ATTACH;FMTTYPE=image/jpeg:https://chiwithkids.com/wp-content/uploads/2023/05/IMG_4789-scaled.webp
END:VEVENT
BEGIN:VEVENT
DTSTART;TZID=America/Chicago:20281214T100000
DTEND;TZID=America/Chicago:20281214T160000
DTSTAMP:20260425T230407
CREATED:20240617T114248Z
LAST-MODIFIED:20240617T114248Z
UID:10003297-1860400800-1860422400@chiwithkids.com
SUMMARY:Free Admission at the Peggy Notebaert Nature Museum
DESCRIPTION:Illinois Residents can enjoy FREE admission to the Peggy Notebaert Nature Museum. A $10 suggested donation per household is greatly appreciated.
URL:https://chiwithkids.com/event/free-admission-at-the-peggy-notebaert-nature-museum-7/2028-12-14/
LOCATION:Peggy Notebaert Nature Museum\, 2430 N Cannon Dr\, Chicago\, IL\, 60614\, United States
CATEGORIES:Free,Nature,Science
ATTACH;FMTTYPE=image/jpeg:https://chiwithkids.com/wp-content/uploads/2023/05/IMG_4789-scaled.webp
END:VEVENT
BEGIN:VEVENT
DTSTART;TZID=America/Chicago:20281221T100000
DTEND;TZID=America/Chicago:20281221T160000
DTSTAMP:20260425T230407
CREATED:20240617T114248Z
LAST-MODIFIED:20240617T114248Z
UID:10003298-1861005600-1861027200@chiwithkids.com
SUMMARY:Free Admission at the Peggy Notebaert Nature Museum
DESCRIPTION:Illinois Residents can enjoy FREE admission to the Peggy Notebaert Nature Museum. A $10 suggested donation per household is greatly appreciated.
URL:https://chiwithkids.com/event/free-admission-at-the-peggy-notebaert-nature-museum-7/2028-12-21/
LOCATION:Peggy Notebaert Nature Museum\, 2430 N Cannon Dr\, Chicago\, IL\, 60614\, United States
CATEGORIES:Free,Nature,Science
ATTACH;FMTTYPE=image/jpeg:https://chiwithkids.com/wp-content/uploads/2023/05/IMG_4789-scaled.webp
END:VEVENT
BEGIN:VEVENT
DTSTART;TZID=America/Chicago:20281228T100000
DTEND;TZID=America/Chicago:20281228T160000
DTSTAMP:20260425T230407
CREATED:20240617T114248Z
LAST-MODIFIED:20240617T114248Z
UID:10003299-1861610400-1861632000@chiwithkids.com
SUMMARY:Free Admission at the Peggy Notebaert Nature Museum
DESCRIPTION:Illinois Residents can enjoy FREE admission to the Peggy Notebaert Nature Museum. A $10 suggested donation per household is greatly appreciated.
URL:https://chiwithkids.com/event/free-admission-at-the-peggy-notebaert-nature-museum-7/2028-12-28/
LOCATION:Peggy Notebaert Nature Museum\, 2430 N Cannon Dr\, Chicago\, IL\, 60614\, United States
CATEGORIES:Free,Nature,Science
ATTACH;FMTTYPE=image/jpeg:https://chiwithkids.com/wp-content/uploads/2023/05/IMG_4789-scaled.webp
END:VEVENT
BEGIN:VEVENT
DTSTART;TZID=America/Chicago:20290104T100000
DTEND;TZID=America/Chicago:20290104T160000
DTSTAMP:20260425T230407
CREATED:20240617T114248Z
LAST-MODIFIED:20240617T114248Z
UID:10003300-1862215200-1862236800@chiwithkids.com
SUMMARY:Free Admission at the Peggy Notebaert Nature Museum
DESCRIPTION:Illinois Residents can enjoy FREE admission to the Peggy Notebaert Nature Museum. A $10 suggested donation per household is greatly appreciated.
URL:https://chiwithkids.com/event/free-admission-at-the-peggy-notebaert-nature-museum-7/2029-01-04/
LOCATION:Peggy Notebaert Nature Museum\, 2430 N Cannon Dr\, Chicago\, IL\, 60614\, United States
CATEGORIES:Free,Nature,Science
ATTACH;FMTTYPE=image/jpeg:https://chiwithkids.com/wp-content/uploads/2023/05/IMG_4789-scaled.webp
END:VEVENT
BEGIN:VEVENT
DTSTART;TZID=America/Chicago:20290111T100000
DTEND;TZID=America/Chicago:20290111T160000
DTSTAMP:20260425T230407
CREATED:20240617T114248Z
LAST-MODIFIED:20240617T114248Z
UID:10003301-1862820000-1862841600@chiwithkids.com
SUMMARY:Free Admission at the Peggy Notebaert Nature Museum
DESCRIPTION:Illinois Residents can enjoy FREE admission to the Peggy Notebaert Nature Museum. A $10 suggested donation per household is greatly appreciated.
URL:https://chiwithkids.com/event/free-admission-at-the-peggy-notebaert-nature-museum-7/2029-01-11/
LOCATION:Peggy Notebaert Nature Museum\, 2430 N Cannon Dr\, Chicago\, IL\, 60614\, United States
CATEGORIES:Free,Nature,Science
ATTACH;FMTTYPE=image/jpeg:https://chiwithkids.com/wp-content/uploads/2023/05/IMG_4789-scaled.webp
END:VEVENT
BEGIN:VEVENT
DTSTART;TZID=America/Chicago:20290118T100000
DTEND;TZID=America/Chicago:20290118T160000
DTSTAMP:20260425T230407
CREATED:20240617T114248Z
LAST-MODIFIED:20240617T114248Z
UID:10003302-1863424800-1863446400@chiwithkids.com
SUMMARY:Free Admission at the Peggy Notebaert Nature Museum
DESCRIPTION:Illinois Residents can enjoy FREE admission to the Peggy Notebaert Nature Museum. A $10 suggested donation per household is greatly appreciated.
URL:https://chiwithkids.com/event/free-admission-at-the-peggy-notebaert-nature-museum-7/2029-01-18/
LOCATION:Peggy Notebaert Nature Museum\, 2430 N Cannon Dr\, Chicago\, IL\, 60614\, United States
CATEGORIES:Free,Nature,Science
ATTACH;FMTTYPE=image/jpeg:https://chiwithkids.com/wp-content/uploads/2023/05/IMG_4789-scaled.webp
END:VEVENT
BEGIN:VEVENT
DTSTART;TZID=America/Chicago:20290125T100000
DTEND;TZID=America/Chicago:20290125T160000
DTSTAMP:20260425T230407
CREATED:20240617T114248Z
LAST-MODIFIED:20240617T114248Z
UID:10003303-1864029600-1864051200@chiwithkids.com
SUMMARY:Free Admission at the Peggy Notebaert Nature Museum
DESCRIPTION:Illinois Residents can enjoy FREE admission to the Peggy Notebaert Nature Museum. A $10 suggested donation per household is greatly appreciated.
URL:https://chiwithkids.com/event/free-admission-at-the-peggy-notebaert-nature-museum-7/2029-01-25/
LOCATION:Peggy Notebaert Nature Museum\, 2430 N Cannon Dr\, Chicago\, IL\, 60614\, United States
CATEGORIES:Free,Nature,Science
ATTACH;FMTTYPE=image/jpeg:https://chiwithkids.com/wp-content/uploads/2023/05/IMG_4789-scaled.webp
END:VEVENT
BEGIN:VEVENT
DTSTART;TZID=America/Chicago:20290201T100000
DTEND;TZID=America/Chicago:20290201T160000
DTSTAMP:20260425T230407
CREATED:20240617T114248Z
LAST-MODIFIED:20240617T114248Z
UID:10003304-1864634400-1864656000@chiwithkids.com
SUMMARY:Free Admission at the Peggy Notebaert Nature Museum
DESCRIPTION:Illinois Residents can enjoy FREE admission to the Peggy Notebaert Nature Museum. A $10 suggested donation per household is greatly appreciated.
URL:https://chiwithkids.com/event/free-admission-at-the-peggy-notebaert-nature-museum-7/2029-02-01/
LOCATION:Peggy Notebaert Nature Museum\, 2430 N Cannon Dr\, Chicago\, IL\, 60614\, United States
CATEGORIES:Free,Nature,Science
ATTACH;FMTTYPE=image/jpeg:https://chiwithkids.com/wp-content/uploads/2023/05/IMG_4789-scaled.webp
END:VEVENT
BEGIN:VEVENT
DTSTART;TZID=America/Chicago:20290208T100000
DTEND;TZID=America/Chicago:20290208T160000
DTSTAMP:20260425T230407
CREATED:20240617T114248Z
LAST-MODIFIED:20240617T114248Z
UID:10003305-1865239200-1865260800@chiwithkids.com
SUMMARY:Free Admission at the Peggy Notebaert Nature Museum
DESCRIPTION:Illinois Residents can enjoy FREE admission to the Peggy Notebaert Nature Museum. A $10 suggested donation per household is greatly appreciated.
URL:https://chiwithkids.com/event/free-admission-at-the-peggy-notebaert-nature-museum-7/2029-02-08/
LOCATION:Peggy Notebaert Nature Museum\, 2430 N Cannon Dr\, Chicago\, IL\, 60614\, United States
CATEGORIES:Free,Nature,Science
ATTACH;FMTTYPE=image/jpeg:https://chiwithkids.com/wp-content/uploads/2023/05/IMG_4789-scaled.webp
END:VEVENT
BEGIN:VEVENT
DTSTART;TZID=America/Chicago:20290215T100000
DTEND;TZID=America/Chicago:20290215T160000
DTSTAMP:20260425T230407
CREATED:20240617T114248Z
LAST-MODIFIED:20240617T114248Z
UID:10003306-1865844000-1865865600@chiwithkids.com
SUMMARY:Free Admission at the Peggy Notebaert Nature Museum
DESCRIPTION:Illinois Residents can enjoy FREE admission to the Peggy Notebaert Nature Museum. A $10 suggested donation per household is greatly appreciated.
URL:https://chiwithkids.com/event/free-admission-at-the-peggy-notebaert-nature-museum-7/2029-02-15/
LOCATION:Peggy Notebaert Nature Museum\, 2430 N Cannon Dr\, Chicago\, IL\, 60614\, United States
CATEGORIES:Free,Nature,Science
ATTACH;FMTTYPE=image/jpeg:https://chiwithkids.com/wp-content/uploads/2023/05/IMG_4789-scaled.webp
END:VEVENT
BEGIN:VEVENT
DTSTART;TZID=America/Chicago:20290222T100000
DTEND;TZID=America/Chicago:20290222T160000
DTSTAMP:20260425T230407
CREATED:20240617T114248Z
LAST-MODIFIED:20240617T114248Z
UID:10003307-1866448800-1866470400@chiwithkids.com
SUMMARY:Free Admission at the Peggy Notebaert Nature Museum
DESCRIPTION:Illinois Residents can enjoy FREE admission to the Peggy Notebaert Nature Museum. A $10 suggested donation per household is greatly appreciated.
URL:https://chiwithkids.com/event/free-admission-at-the-peggy-notebaert-nature-museum-7/2029-02-22/
LOCATION:Peggy Notebaert Nature Museum\, 2430 N Cannon Dr\, Chicago\, IL\, 60614\, United States
CATEGORIES:Free,Nature,Science
ATTACH;FMTTYPE=image/jpeg:https://chiwithkids.com/wp-content/uploads/2023/05/IMG_4789-scaled.webp
END:VEVENT
BEGIN:VEVENT
DTSTART;TZID=America/Chicago:20290301T100000
DTEND;TZID=America/Chicago:20290301T160000
DTSTAMP:20260425T230407
CREATED:20240617T114248Z
LAST-MODIFIED:20240617T114248Z
UID:10003308-1867053600-1867075200@chiwithkids.com
SUMMARY:Free Admission at the Peggy Notebaert Nature Museum
DESCRIPTION:Illinois Residents can enjoy FREE admission to the Peggy Notebaert Nature Museum. A $10 suggested donation per household is greatly appreciated.
URL:https://chiwithkids.com/event/free-admission-at-the-peggy-notebaert-nature-museum-7/2029-03-01/
LOCATION:Peggy Notebaert Nature Museum\, 2430 N Cannon Dr\, Chicago\, IL\, 60614\, United States
CATEGORIES:Free,Nature,Science
ATTACH;FMTTYPE=image/jpeg:https://chiwithkids.com/wp-content/uploads/2023/05/IMG_4789-scaled.webp
END:VEVENT
BEGIN:VEVENT
DTSTART;TZID=America/Chicago:20290308T100000
DTEND;TZID=America/Chicago:20290308T160000
DTSTAMP:20260425T230407
CREATED:20240617T114248Z
LAST-MODIFIED:20240617T114248Z
UID:10003309-1867658400-1867680000@chiwithkids.com
SUMMARY:Free Admission at the Peggy Notebaert Nature Museum
DESCRIPTION:Illinois Residents can enjoy FREE admission to the Peggy Notebaert Nature Museum. A $10 suggested donation per household is greatly appreciated.
URL:https://chiwithkids.com/event/free-admission-at-the-peggy-notebaert-nature-museum-7/2029-03-08/
LOCATION:Peggy Notebaert Nature Museum\, 2430 N Cannon Dr\, Chicago\, IL\, 60614\, United States
CATEGORIES:Free,Nature,Science
ATTACH;FMTTYPE=image/jpeg:https://chiwithkids.com/wp-content/uploads/2023/05/IMG_4789-scaled.webp
END:VEVENT
BEGIN:VEVENT
DTSTART;TZID=America/Chicago:20290315T100000
DTEND;TZID=America/Chicago:20290315T160000
DTSTAMP:20260425T230407
CREATED:20240617T114248Z
LAST-MODIFIED:20240617T114248Z
UID:10003310-1868263200-1868284800@chiwithkids.com
SUMMARY:Free Admission at the Peggy Notebaert Nature Museum
DESCRIPTION:Illinois Residents can enjoy FREE admission to the Peggy Notebaert Nature Museum. A $10 suggested donation per household is greatly appreciated.
URL:https://chiwithkids.com/event/free-admission-at-the-peggy-notebaert-nature-museum-7/2029-03-15/
LOCATION:Peggy Notebaert Nature Museum\, 2430 N Cannon Dr\, Chicago\, IL\, 60614\, United States
CATEGORIES:Free,Nature,Science
ATTACH;FMTTYPE=image/jpeg:https://chiwithkids.com/wp-content/uploads/2023/05/IMG_4789-scaled.webp
END:VEVENT
BEGIN:VEVENT
DTSTART;TZID=America/Chicago:20290322T100000
DTEND;TZID=America/Chicago:20290322T160000
DTSTAMP:20260425T230407
CREATED:20240617T114248Z
LAST-MODIFIED:20240617T114248Z
UID:10003311-1868868000-1868889600@chiwithkids.com
SUMMARY:Free Admission at the Peggy Notebaert Nature Museum
DESCRIPTION:Illinois Residents can enjoy FREE admission to the Peggy Notebaert Nature Museum. A $10 suggested donation per household is greatly appreciated.
URL:https://chiwithkids.com/event/free-admission-at-the-peggy-notebaert-nature-museum-7/2029-03-22/
LOCATION:Peggy Notebaert Nature Museum\, 2430 N Cannon Dr\, Chicago\, IL\, 60614\, United States
CATEGORIES:Free,Nature,Science
ATTACH;FMTTYPE=image/jpeg:https://chiwithkids.com/wp-content/uploads/2023/05/IMG_4789-scaled.webp
END:VEVENT
BEGIN:VEVENT
DTSTART;TZID=America/Chicago:20290329T100000
DTEND;TZID=America/Chicago:20290329T160000
DTSTAMP:20260425T230407
CREATED:20240617T114248Z
LAST-MODIFIED:20240617T114248Z
UID:10003312-1869472800-1869494400@chiwithkids.com
SUMMARY:Free Admission at the Peggy Notebaert Nature Museum
DESCRIPTION:Illinois Residents can enjoy FREE admission to the Peggy Notebaert Nature Museum. A $10 suggested donation per household is greatly appreciated.
URL:https://chiwithkids.com/event/free-admission-at-the-peggy-notebaert-nature-museum-7/2029-03-29/
LOCATION:Peggy Notebaert Nature Museum\, 2430 N Cannon Dr\, Chicago\, IL\, 60614\, United States
CATEGORIES:Free,Nature,Science
ATTACH;FMTTYPE=image/jpeg:https://chiwithkids.com/wp-content/uploads/2023/05/IMG_4789-scaled.webp
END:VEVENT
BEGIN:VEVENT
DTSTART;TZID=America/Chicago:20290405T100000
DTEND;TZID=America/Chicago:20290405T160000
DTSTAMP:20260425T230407
CREATED:20240617T114248Z
LAST-MODIFIED:20240617T114248Z
UID:10003313-1870077600-1870099200@chiwithkids.com
SUMMARY:Free Admission at the Peggy Notebaert Nature Museum
DESCRIPTION:Illinois Residents can enjoy FREE admission to the Peggy Notebaert Nature Museum. A $10 suggested donation per household is greatly appreciated.
URL:https://chiwithkids.com/event/free-admission-at-the-peggy-notebaert-nature-museum-7/2029-04-05/
LOCATION:Peggy Notebaert Nature Museum\, 2430 N Cannon Dr\, Chicago\, IL\, 60614\, United States
CATEGORIES:Free,Nature,Science
ATTACH;FMTTYPE=image/jpeg:https://chiwithkids.com/wp-content/uploads/2023/05/IMG_4789-scaled.webp
END:VEVENT
BEGIN:VEVENT
DTSTART;TZID=America/Chicago:20290412T100000
DTEND;TZID=America/Chicago:20290412T160000
DTSTAMP:20260425T230407
CREATED:20240617T114248Z
LAST-MODIFIED:20240617T114248Z
UID:10003314-1870682400-1870704000@chiwithkids.com
SUMMARY:Free Admission at the Peggy Notebaert Nature Museum
DESCRIPTION:Illinois Residents can enjoy FREE admission to the Peggy Notebaert Nature Museum. A $10 suggested donation per household is greatly appreciated.
URL:https://chiwithkids.com/event/free-admission-at-the-peggy-notebaert-nature-museum-7/2029-04-12/
LOCATION:Peggy Notebaert Nature Museum\, 2430 N Cannon Dr\, Chicago\, IL\, 60614\, United States
CATEGORIES:Free,Nature,Science
ATTACH;FMTTYPE=image/jpeg:https://chiwithkids.com/wp-content/uploads/2023/05/IMG_4789-scaled.webp
END:VEVENT
BEGIN:VEVENT
DTSTART;TZID=America/Chicago:20290419T100000
DTEND;TZID=America/Chicago:20290419T160000
DTSTAMP:20260425T230407
CREATED:20240617T114248Z
LAST-MODIFIED:20240617T114248Z
UID:10003315-1871287200-1871308800@chiwithkids.com
SUMMARY:Free Admission at the Peggy Notebaert Nature Museum
DESCRIPTION:Illinois Residents can enjoy FREE admission to the Peggy Notebaert Nature Museum. A $10 suggested donation per household is greatly appreciated.
URL:https://chiwithkids.com/event/free-admission-at-the-peggy-notebaert-nature-museum-7/2029-04-19/
LOCATION:Peggy Notebaert Nature Museum\, 2430 N Cannon Dr\, Chicago\, IL\, 60614\, United States
CATEGORIES:Free,Nature,Science
ATTACH;FMTTYPE=image/jpeg:https://chiwithkids.com/wp-content/uploads/2023/05/IMG_4789-scaled.webp
END:VEVENT
END:VCALENDAR