BEGIN:VCALENDAR
VERSION:2.0
PRODID:-//Chicago With Kids - ECPv6.15.13.1//NONSGML v1.0//EN
CALSCALE:GREGORIAN
METHOD:PUBLISH
X-ORIGINAL-URL:https://chiwithkids.com
X-WR-CALDESC:Events for Chicago With Kids
REFRESH-INTERVAL;VALUE=DURATION:PT1H
X-Robots-Tag:noindex
X-PUBLISHED-TTL:PT1H
BEGIN:VTIMEZONE
TZID:America/Chicago
BEGIN:DAYLIGHT
TZOFFSETFROM:-0600
TZOFFSETTO:-0500
TZNAME:CDT
DTSTART:20280312T080000
END:DAYLIGHT
BEGIN:STANDARD
TZOFFSETFROM:-0500
TZOFFSETTO:-0600
TZNAME:CST
DTSTART:20281105T070000
END:STANDARD
BEGIN:DAYLIGHT
TZOFFSETFROM:-0600
TZOFFSETTO:-0500
TZNAME:CDT
DTSTART:20290311T080000
END:DAYLIGHT
BEGIN:STANDARD
TZOFFSETFROM:-0500
TZOFFSETTO:-0600
TZNAME:CST
DTSTART:20291104T070000
END:STANDARD
BEGIN:DAYLIGHT
TZOFFSETFROM:-0600
TZOFFSETTO:-0500
TZNAME:CDT
DTSTART:20300310T080000
END:DAYLIGHT
BEGIN:STANDARD
TZOFFSETFROM:-0500
TZOFFSETTO:-0600
TZNAME:CST
DTSTART:20301103T070000
END:STANDARD
END:VTIMEZONE
BEGIN:VEVENT
DTSTART;TZID=America/Chicago:20290426T100000
DTEND;TZID=America/Chicago:20290426T160000
DTSTAMP:20260425T061226
CREATED:20240617T114248Z
LAST-MODIFIED:20240617T114248Z
UID:10003316-1871892000-1871913600@chiwithkids.com
SUMMARY:Free Admission at the Peggy Notebaert Nature Museum
DESCRIPTION:Illinois Residents can enjoy FREE admission to the Peggy Notebaert Nature Museum. A $10 suggested donation per household is greatly appreciated.
URL:https://chiwithkids.com/event/free-admission-at-the-peggy-notebaert-nature-museum-7/2029-04-26/
LOCATION:Peggy Notebaert Nature Museum\, 2430 N Cannon Dr\, Chicago\, IL\, 60614\, United States
CATEGORIES:Free,Nature,Science
ATTACH;FMTTYPE=image/jpeg:https://chiwithkids.com/wp-content/uploads/2023/05/IMG_4789-scaled.webp
END:VEVENT
BEGIN:VEVENT
DTSTART;TZID=America/Chicago:20290503T100000
DTEND;TZID=America/Chicago:20290503T160000
DTSTAMP:20260425T061226
CREATED:20240617T114248Z
LAST-MODIFIED:20240617T114248Z
UID:10003317-1872496800-1872518400@chiwithkids.com
SUMMARY:Free Admission at the Peggy Notebaert Nature Museum
DESCRIPTION:Illinois Residents can enjoy FREE admission to the Peggy Notebaert Nature Museum. A $10 suggested donation per household is greatly appreciated.
URL:https://chiwithkids.com/event/free-admission-at-the-peggy-notebaert-nature-museum-7/2029-05-03/
LOCATION:Peggy Notebaert Nature Museum\, 2430 N Cannon Dr\, Chicago\, IL\, 60614\, United States
CATEGORIES:Free,Nature,Science
ATTACH;FMTTYPE=image/jpeg:https://chiwithkids.com/wp-content/uploads/2023/05/IMG_4789-scaled.webp
END:VEVENT
BEGIN:VEVENT
DTSTART;TZID=America/Chicago:20290510T100000
DTEND;TZID=America/Chicago:20290510T160000
DTSTAMP:20260425T061226
CREATED:20240617T114248Z
LAST-MODIFIED:20240617T114248Z
UID:10003318-1873101600-1873123200@chiwithkids.com
SUMMARY:Free Admission at the Peggy Notebaert Nature Museum
DESCRIPTION:Illinois Residents can enjoy FREE admission to the Peggy Notebaert Nature Museum. A $10 suggested donation per household is greatly appreciated.
URL:https://chiwithkids.com/event/free-admission-at-the-peggy-notebaert-nature-museum-7/2029-05-10/
LOCATION:Peggy Notebaert Nature Museum\, 2430 N Cannon Dr\, Chicago\, IL\, 60614\, United States
CATEGORIES:Free,Nature,Science
ATTACH;FMTTYPE=image/jpeg:https://chiwithkids.com/wp-content/uploads/2023/05/IMG_4789-scaled.webp
END:VEVENT
BEGIN:VEVENT
DTSTART;TZID=America/Chicago:20290517T100000
DTEND;TZID=America/Chicago:20290517T160000
DTSTAMP:20260425T061226
CREATED:20240617T114248Z
LAST-MODIFIED:20240617T114248Z
UID:10003319-1873706400-1873728000@chiwithkids.com
SUMMARY:Free Admission at the Peggy Notebaert Nature Museum
DESCRIPTION:Illinois Residents can enjoy FREE admission to the Peggy Notebaert Nature Museum. A $10 suggested donation per household is greatly appreciated.
URL:https://chiwithkids.com/event/free-admission-at-the-peggy-notebaert-nature-museum-7/2029-05-17/
LOCATION:Peggy Notebaert Nature Museum\, 2430 N Cannon Dr\, Chicago\, IL\, 60614\, United States
CATEGORIES:Free,Nature,Science
ATTACH;FMTTYPE=image/jpeg:https://chiwithkids.com/wp-content/uploads/2023/05/IMG_4789-scaled.webp
END:VEVENT
BEGIN:VEVENT
DTSTART;TZID=America/Chicago:20290524T100000
DTEND;TZID=America/Chicago:20290524T160000
DTSTAMP:20260425T061226
CREATED:20240617T114248Z
LAST-MODIFIED:20240617T114248Z
UID:10003320-1874311200-1874332800@chiwithkids.com
SUMMARY:Free Admission at the Peggy Notebaert Nature Museum
DESCRIPTION:Illinois Residents can enjoy FREE admission to the Peggy Notebaert Nature Museum. A $10 suggested donation per household is greatly appreciated.
URL:https://chiwithkids.com/event/free-admission-at-the-peggy-notebaert-nature-museum-7/2029-05-24/
LOCATION:Peggy Notebaert Nature Museum\, 2430 N Cannon Dr\, Chicago\, IL\, 60614\, United States
CATEGORIES:Free,Nature,Science
ATTACH;FMTTYPE=image/jpeg:https://chiwithkids.com/wp-content/uploads/2023/05/IMG_4789-scaled.webp
END:VEVENT
BEGIN:VEVENT
DTSTART;TZID=America/Chicago:20290531T100000
DTEND;TZID=America/Chicago:20290531T160000
DTSTAMP:20260425T061226
CREATED:20240617T114248Z
LAST-MODIFIED:20240617T114248Z
UID:10003321-1874916000-1874937600@chiwithkids.com
SUMMARY:Free Admission at the Peggy Notebaert Nature Museum
DESCRIPTION:Illinois Residents can enjoy FREE admission to the Peggy Notebaert Nature Museum. A $10 suggested donation per household is greatly appreciated.
URL:https://chiwithkids.com/event/free-admission-at-the-peggy-notebaert-nature-museum-7/2029-05-31/
LOCATION:Peggy Notebaert Nature Museum\, 2430 N Cannon Dr\, Chicago\, IL\, 60614\, United States
CATEGORIES:Free,Nature,Science
ATTACH;FMTTYPE=image/jpeg:https://chiwithkids.com/wp-content/uploads/2023/05/IMG_4789-scaled.webp
END:VEVENT
BEGIN:VEVENT
DTSTART;TZID=America/Chicago:20290607T100000
DTEND;TZID=America/Chicago:20290607T160000
DTSTAMP:20260425T061226
CREATED:20240617T114248Z
LAST-MODIFIED:20240617T114248Z
UID:10003322-1875520800-1875542400@chiwithkids.com
SUMMARY:Free Admission at the Peggy Notebaert Nature Museum
DESCRIPTION:Illinois Residents can enjoy FREE admission to the Peggy Notebaert Nature Museum. A $10 suggested donation per household is greatly appreciated.
URL:https://chiwithkids.com/event/free-admission-at-the-peggy-notebaert-nature-museum-7/2029-06-07/
LOCATION:Peggy Notebaert Nature Museum\, 2430 N Cannon Dr\, Chicago\, IL\, 60614\, United States
CATEGORIES:Free,Nature,Science
ATTACH;FMTTYPE=image/jpeg:https://chiwithkids.com/wp-content/uploads/2023/05/IMG_4789-scaled.webp
END:VEVENT
BEGIN:VEVENT
DTSTART;TZID=America/Chicago:20290614T100000
DTEND;TZID=America/Chicago:20290614T160000
DTSTAMP:20260425T061226
CREATED:20240617T114248Z
LAST-MODIFIED:20240617T114248Z
UID:10003323-1876125600-1876147200@chiwithkids.com
SUMMARY:Free Admission at the Peggy Notebaert Nature Museum
DESCRIPTION:Illinois Residents can enjoy FREE admission to the Peggy Notebaert Nature Museum. A $10 suggested donation per household is greatly appreciated.
URL:https://chiwithkids.com/event/free-admission-at-the-peggy-notebaert-nature-museum-7/2029-06-14/
LOCATION:Peggy Notebaert Nature Museum\, 2430 N Cannon Dr\, Chicago\, IL\, 60614\, United States
CATEGORIES:Free,Nature,Science
ATTACH;FMTTYPE=image/jpeg:https://chiwithkids.com/wp-content/uploads/2023/05/IMG_4789-scaled.webp
END:VEVENT
END:VCALENDAR