BEGIN:VCALENDAR
VERSION:2.0
PRODID:-//Chicago With Kids - ECPv6.15.13.1//NONSGML v1.0//EN
CALSCALE:GREGORIAN
METHOD:PUBLISH
X-WR-CALNAME:Chicago With Kids
X-ORIGINAL-URL:https://chiwithkids.com
X-WR-CALDESC:Events for Chicago With Kids
REFRESH-INTERVAL;VALUE=DURATION:PT1H
X-Robots-Tag:noindex
X-PUBLISHED-TTL:PT1H
BEGIN:VTIMEZONE
TZID:America/Chicago
BEGIN:DAYLIGHT
TZOFFSETFROM:-0600
TZOFFSETTO:-0500
TZNAME:CDT
DTSTART:20220313T080000
END:DAYLIGHT
BEGIN:STANDARD
TZOFFSETFROM:-0500
TZOFFSETTO:-0600
TZNAME:CST
DTSTART:20221106T070000
END:STANDARD
BEGIN:DAYLIGHT
TZOFFSETFROM:-0600
TZOFFSETTO:-0500
TZNAME:CDT
DTSTART:20230312T080000
END:DAYLIGHT
BEGIN:STANDARD
TZOFFSETFROM:-0500
TZOFFSETTO:-0600
TZNAME:CST
DTSTART:20231105T070000
END:STANDARD
BEGIN:DAYLIGHT
TZOFFSETFROM:-0600
TZOFFSETTO:-0500
TZNAME:CDT
DTSTART:20240310T080000
END:DAYLIGHT
BEGIN:STANDARD
TZOFFSETFROM:-0500
TZOFFSETTO:-0600
TZNAME:CST
DTSTART:20241103T070000
END:STANDARD
END:VTIMEZONE
BEGIN:VEVENT
DTSTART;VALUE=DATE:20230915
DTEND;VALUE=DATE:20230918
DTSTAMP:20260421T033025
CREATED:20230522T194140Z
LAST-MODIFIED:20230522T194140Z
UID:10001115-1694736000-1694995199@chiwithkids.com
SUMMARY:Monster Jam
DESCRIPTION:“At Monster Jam®\, world champion athletes and their 12\,000-pound monster trucks tear up the dirt in wide-open competitions of speed and skill. \nMonster Jam drivers are trained\, world-class male and female athletes who have mastered not only the physical strength and mental stamina needed to compete\, but the vital dexterity to control 12\,000-pound machines capable of doing backflips\, vertical two-wheel skills and racing at speeds up to 70 miles-per-hour to produce jaw-dropping\, live motorsports action seen around the world. Monster Jam. As Big As It Gets!™”-From the Allstate Arena website 
URL:https://chiwithkids.com/event/monster-jam/
LOCATION:Allstate Arena\, 6920 Mannheim Rd\, Rosemont\, IL\, 60018\, United States
CATEGORIES:Sports,Trucks
END:VEVENT
BEGIN:VEVENT
DTSTART;VALUE=DATE:20230610
DTEND;VALUE=DATE:20230611
DTSTAMP:20260421T033025
CREATED:20230509T142007Z
LAST-MODIFIED:20230509T142007Z
UID:10000919-1686355200-1686441599@chiwithkids.com
SUMMARY:Blippi: The Wonderful Tour
DESCRIPTION:“Blippi is coming to your city for the ultimate curiosity adventure in Blippi: The Wonderful World Tour! So\, come on! Dance\, sing\, and learn with Blippi and special guest Meekah as they discover what makes different cities unique and special. Will there be monster trucks\, excavators\, and garbage trucks galore? You bet! So get ready to shake those wiggles out and OJ Twist your way through this brand-new musical party!”-From the Blippi: The Wonderful Tour Website
URL:https://chiwithkids.com/event/blippi-the-wonderful-tour/
LOCATION:Allstate Arena\, 6920 Mannheim Rd\, Rosemont\, IL\, 60018\, United States
CATEGORIES:Music,Theater,Trucks
ATTACH;FMTTYPE=image/jpeg:https://chiwithkids.com/wp-content/uploads/2023/05/Movie-65-jpg.webp
END:VEVENT
BEGIN:VEVENT
DTSTART;TZID=America/Chicago:20230530T190000
DTEND;TZID=America/Chicago:20230530T210000
DTSTAMP:20260421T033025
CREATED:20230509T141605Z
LAST-MODIFIED:20230509T141605Z
UID:10000918-1685473200-1685480400@chiwithkids.com
SUMMARY:Stars on Ice at Allstate Arena
DESCRIPTION:“The 2023 Stars on Ice tour will bring together figure skating’s superstars of today and tomorrow!  Olympic Champion Nathan Chen and U.S. Olympic Medalists Alexa Knierim & Brandon Frazier\, Madison Chock & Evan Bates and Jason Brown will lead an international cast of skating’s finest\, including Canadian icon Kurt Browning\, Canadian Dance Champions Piper Gilles & Paul Poirier\, four-time Japanese Champion Satoko Miyahara and more! Plus\, skating’s newest rising star – 2022 World Junior Champion Isabeau Levito!”-From the Stars on Ice Website
URL:https://chiwithkids.com/event/stars-on-ice-at-allstate-arena/
LOCATION:Allstate Arena\, 6920 Mannheim Rd\, Rosemont\, IL\, 60018\, United States
CATEGORIES:Dance,Music,Theater
ATTACH;FMTTYPE=image/jpeg:https://chiwithkids.com/wp-content/uploads/2023/05/Movie-67-jpg.webp
END:VEVENT
END:VCALENDAR