BEGIN:VCALENDAR
VERSION:2.0
PRODID:-//Chicago With Kids - ECPv6.15.13.1//NONSGML v1.0//EN
CALSCALE:GREGORIAN
METHOD:PUBLISH
X-ORIGINAL-URL:https://chiwithkids.com
X-WR-CALDESC:Events for Chicago With Kids
REFRESH-INTERVAL;VALUE=DURATION:PT1H
X-Robots-Tag:noindex
X-PUBLISHED-TTL:PT1H
BEGIN:VTIMEZONE
TZID:America/Chicago
BEGIN:DAYLIGHT
TZOFFSETFROM:-0600
TZOFFSETTO:-0500
TZNAME:CDT
DTSTART:20220313T080000
END:DAYLIGHT
BEGIN:STANDARD
TZOFFSETFROM:-0500
TZOFFSETTO:-0600
TZNAME:CST
DTSTART:20221106T070000
END:STANDARD
BEGIN:DAYLIGHT
TZOFFSETFROM:-0600
TZOFFSETTO:-0500
TZNAME:CDT
DTSTART:20230312T080000
END:DAYLIGHT
BEGIN:STANDARD
TZOFFSETFROM:-0500
TZOFFSETTO:-0600
TZNAME:CST
DTSTART:20231105T070000
END:STANDARD
BEGIN:DAYLIGHT
TZOFFSETFROM:-0600
TZOFFSETTO:-0500
TZNAME:CDT
DTSTART:20240310T080000
END:DAYLIGHT
BEGIN:STANDARD
TZOFFSETFROM:-0500
TZOFFSETTO:-0600
TZNAME:CST
DTSTART:20241103T070000
END:STANDARD
BEGIN:DAYLIGHT
TZOFFSETFROM:-0600
TZOFFSETTO:-0500
TZNAME:CDT
DTSTART:20250309T080000
END:DAYLIGHT
BEGIN:STANDARD
TZOFFSETFROM:-0500
TZOFFSETTO:-0600
TZNAME:CST
DTSTART:20251102T070000
END:STANDARD
END:VTIMEZONE
BEGIN:VEVENT
DTSTART;TZID=America/Chicago:20240704T170000
DTEND;TZID=America/Chicago:20240704T220000
DTSTAMP:20260422T072644
CREATED:20240528T194120Z
LAST-MODIFIED:20240528T194120Z
UID:10002748-1720112400-1720130400@chiwithkids.com
SUMMARY:Lake Forest Festival and Fireworks
DESCRIPTION:Spend your Fourth of July holiday under the stars at the Annual Lake Forest Festival and Fireworks. After the show\, enjoy the greatest fireworks display on the North Shore\, set to a fantastic playlist of patriotic music.
URL:https://chiwithkids.com/event/lake-forest-festival-and-fireworks-2/
LOCATION:Deer Path Middle School Grounds\, 95 Deerpath\, Lake Forest\, IL\, 95 Deerpath\, Lake Forest\, IL\, United States
CATEGORIES:Festival,Food,Music
ATTACH;FMTTYPE=image/jpeg:https://chiwithkids.com/wp-content/uploads/2023/05/Movie-70-jpg.webp
END:VEVENT
BEGIN:VEVENT
DTSTART;TZID=America/Chicago:20230704T170000
DTEND;TZID=America/Chicago:20230704T220000
DTSTAMP:20260422T072644
CREATED:20230510T144939Z
LAST-MODIFIED:20230510T144939Z
UID:10000934-1688490000-1688508000@chiwithkids.com
SUMMARY:Lake Forest Festival and Fireworks
DESCRIPTION:“Spend your Fourth of July holiday under the stars at the 16th Annual Lake Forest Festival and Fireworks. This year’s musical entertainment is Run Forrest Run\, with opening band Fletcher Rockwell! After the show\, enjoy the greatest fireworks display on the North Shore\, set to a fantastic playlist of patriotic music. This fun family event is brought to you by the Friends of Lake Forest Parks and Recreation Foundation.”- From https://lfparksandrec.com/calendar/july-4th-festival—fireworks \n 
URL:https://chiwithkids.com/event/lake-forest-festival-and-fireworks/
LOCATION:Deer Path Middle School Grounds\, 95 Deerpath\, Lake Forest\, IL\, 95 Deerpath\, Lake Forest\, IL\, United States
CATEGORIES:Festival,Food,Music
ATTACH;FMTTYPE=image/jpeg:https://chiwithkids.com/wp-content/uploads/2023/05/Movie-70-jpg.webp
END:VEVENT
END:VCALENDAR