BEGIN:VCALENDAR
VERSION:2.0
PRODID:-//Chicago With Kids - ECPv6.15.13.1//NONSGML v1.0//EN
CALSCALE:GREGORIAN
METHOD:PUBLISH
X-WR-CALNAME:Chicago With Kids
X-ORIGINAL-URL:https://chiwithkids.com
X-WR-CALDESC:Events for Chicago With Kids
REFRESH-INTERVAL;VALUE=DURATION:PT1H
X-Robots-Tag:noindex
X-PUBLISHED-TTL:PT1H
BEGIN:VTIMEZONE
TZID:America/Chicago
BEGIN:DAYLIGHT
TZOFFSETFROM:-0600
TZOFFSETTO:-0500
TZNAME:CDT
DTSTART:20280312T080000
END:DAYLIGHT
BEGIN:STANDARD
TZOFFSETFROM:-0500
TZOFFSETTO:-0600
TZNAME:CST
DTSTART:20281105T070000
END:STANDARD
BEGIN:DAYLIGHT
TZOFFSETFROM:-0600
TZOFFSETTO:-0500
TZNAME:CDT
DTSTART:20290311T080000
END:DAYLIGHT
BEGIN:STANDARD
TZOFFSETFROM:-0500
TZOFFSETTO:-0600
TZNAME:CST
DTSTART:20291104T070000
END:STANDARD
BEGIN:DAYLIGHT
TZOFFSETFROM:-0600
TZOFFSETTO:-0500
TZNAME:CDT
DTSTART:20300310T080000
END:DAYLIGHT
BEGIN:STANDARD
TZOFFSETFROM:-0500
TZOFFSETTO:-0600
TZNAME:CST
DTSTART:20301103T070000
END:STANDARD
END:VTIMEZONE
BEGIN:VEVENT
DTSTART;TZID=America/Chicago:20290516T090000
DTEND;TZID=America/Chicago:20290516T170000
DTSTAMP:20260421T115955
CREATED:20240614T112931Z
LAST-MODIFIED:20240623T015828Z
UID:10003644-1873616400-1873645200@chiwithkids.com
SUMMARY:Free Resident Day at the Field Museum
DESCRIPTION:“Free Admission Days are the perfect opportunity for Illinois residents to explore our general admission exhibitions with your family or a group of science-loving friends. Or\, use these days to check out special ticketed exhibitions or a 3D movie with a discounted Discovery or All-Access Pass. \nTickets for Free Days are only available to Illinois residents on-site and cannot be reserved in advance. Please ask a Visitor Services staff member for the special offer and show your Illinois proof of residency. You cannot take advantage of Free Days when buying tickets online.” -From the Field Museum Website
URL:https://chiwithkids.com/event/free-resident-day-at-the-field-museum-44-2/2029-05-16/
LOCATION:Field Museum\, 1400 S Lake Shore Drive\, Chicago\, IL\, 60605\, United States
CATEGORIES:Free,Museum,Science
ATTACH;FMTTYPE=image/jpeg:https://chiwithkids.com/wp-content/uploads/2023/01/fieldmuseum_maximo-383-Photo-by-Lucy-Hewett-©-2018-Field-Museum-1-1-scaled.jpg
END:VEVENT
BEGIN:VEVENT
DTSTART;TZID=America/Chicago:20290523T090000
DTEND;TZID=America/Chicago:20290523T170000
DTSTAMP:20260421T115955
CREATED:20240614T112931Z
LAST-MODIFIED:20240623T015828Z
UID:10003645-1874221200-1874250000@chiwithkids.com
SUMMARY:Free Resident Day at the Field Museum
DESCRIPTION:“Free Admission Days are the perfect opportunity for Illinois residents to explore our general admission exhibitions with your family or a group of science-loving friends. Or\, use these days to check out special ticketed exhibitions or a 3D movie with a discounted Discovery or All-Access Pass. \nTickets for Free Days are only available to Illinois residents on-site and cannot be reserved in advance. Please ask a Visitor Services staff member for the special offer and show your Illinois proof of residency. You cannot take advantage of Free Days when buying tickets online.” -From the Field Museum Website
URL:https://chiwithkids.com/event/free-resident-day-at-the-field-museum-44-2/2029-05-23/
LOCATION:Field Museum\, 1400 S Lake Shore Drive\, Chicago\, IL\, 60605\, United States
CATEGORIES:Free,Museum,Science
ATTACH;FMTTYPE=image/jpeg:https://chiwithkids.com/wp-content/uploads/2023/01/fieldmuseum_maximo-383-Photo-by-Lucy-Hewett-©-2018-Field-Museum-1-1-scaled.jpg
END:VEVENT
BEGIN:VEVENT
DTSTART;TZID=America/Chicago:20290530T090000
DTEND;TZID=America/Chicago:20290530T170000
DTSTAMP:20260421T115955
CREATED:20240614T112931Z
LAST-MODIFIED:20240623T015828Z
UID:10003646-1874826000-1874854800@chiwithkids.com
SUMMARY:Free Resident Day at the Field Museum
DESCRIPTION:“Free Admission Days are the perfect opportunity for Illinois residents to explore our general admission exhibitions with your family or a group of science-loving friends. Or\, use these days to check out special ticketed exhibitions or a 3D movie with a discounted Discovery or All-Access Pass. \nTickets for Free Days are only available to Illinois residents on-site and cannot be reserved in advance. Please ask a Visitor Services staff member for the special offer and show your Illinois proof of residency. You cannot take advantage of Free Days when buying tickets online.” -From the Field Museum Website
URL:https://chiwithkids.com/event/free-resident-day-at-the-field-museum-44-2/2029-05-30/
LOCATION:Field Museum\, 1400 S Lake Shore Drive\, Chicago\, IL\, 60605\, United States
CATEGORIES:Free,Museum,Science
ATTACH;FMTTYPE=image/jpeg:https://chiwithkids.com/wp-content/uploads/2023/01/fieldmuseum_maximo-383-Photo-by-Lucy-Hewett-©-2018-Field-Museum-1-1-scaled.jpg
END:VEVENT
BEGIN:VEVENT
DTSTART;TZID=America/Chicago:20290606T090000
DTEND;TZID=America/Chicago:20290606T170000
DTSTAMP:20260421T115955
CREATED:20240614T112931Z
LAST-MODIFIED:20240623T015828Z
UID:10003647-1875430800-1875459600@chiwithkids.com
SUMMARY:Free Resident Day at the Field Museum
DESCRIPTION:“Free Admission Days are the perfect opportunity for Illinois residents to explore our general admission exhibitions with your family or a group of science-loving friends. Or\, use these days to check out special ticketed exhibitions or a 3D movie with a discounted Discovery or All-Access Pass. \nTickets for Free Days are only available to Illinois residents on-site and cannot be reserved in advance. Please ask a Visitor Services staff member for the special offer and show your Illinois proof of residency. You cannot take advantage of Free Days when buying tickets online.” -From the Field Museum Website
URL:https://chiwithkids.com/event/free-resident-day-at-the-field-museum-44-2/2029-06-06/
LOCATION:Field Museum\, 1400 S Lake Shore Drive\, Chicago\, IL\, 60605\, United States
CATEGORIES:Free,Museum,Science
ATTACH;FMTTYPE=image/jpeg:https://chiwithkids.com/wp-content/uploads/2023/01/fieldmuseum_maximo-383-Photo-by-Lucy-Hewett-©-2018-Field-Museum-1-1-scaled.jpg
END:VEVENT
BEGIN:VEVENT
DTSTART;TZID=America/Chicago:20290613T090000
DTEND;TZID=America/Chicago:20290613T170000
DTSTAMP:20260421T115955
CREATED:20240614T112931Z
LAST-MODIFIED:20240623T015828Z
UID:10003648-1876035600-1876064400@chiwithkids.com
SUMMARY:Free Resident Day at the Field Museum
DESCRIPTION:“Free Admission Days are the perfect opportunity for Illinois residents to explore our general admission exhibitions with your family or a group of science-loving friends. Or\, use these days to check out special ticketed exhibitions or a 3D movie with a discounted Discovery or All-Access Pass. \nTickets for Free Days are only available to Illinois residents on-site and cannot be reserved in advance. Please ask a Visitor Services staff member for the special offer and show your Illinois proof of residency. You cannot take advantage of Free Days when buying tickets online.” -From the Field Museum Website
URL:https://chiwithkids.com/event/free-resident-day-at-the-field-museum-44-2/2029-06-13/
LOCATION:Field Museum\, 1400 S Lake Shore Drive\, Chicago\, IL\, 60605\, United States
CATEGORIES:Free,Museum,Science
ATTACH;FMTTYPE=image/jpeg:https://chiwithkids.com/wp-content/uploads/2023/01/fieldmuseum_maximo-383-Photo-by-Lucy-Hewett-©-2018-Field-Museum-1-1-scaled.jpg
END:VEVENT
BEGIN:VEVENT
DTSTART;TZID=America/Chicago:20290620T090000
DTEND;TZID=America/Chicago:20290620T170000
DTSTAMP:20260421T115955
CREATED:20240614T112931Z
LAST-MODIFIED:20240623T015828Z
UID:10003649-1876640400-1876669200@chiwithkids.com
SUMMARY:Free Resident Day at the Field Museum
DESCRIPTION:“Free Admission Days are the perfect opportunity for Illinois residents to explore our general admission exhibitions with your family or a group of science-loving friends. Or\, use these days to check out special ticketed exhibitions or a 3D movie with a discounted Discovery or All-Access Pass. \nTickets for Free Days are only available to Illinois residents on-site and cannot be reserved in advance. Please ask a Visitor Services staff member for the special offer and show your Illinois proof of residency. You cannot take advantage of Free Days when buying tickets online.” -From the Field Museum Website
URL:https://chiwithkids.com/event/free-resident-day-at-the-field-museum-44-2/2029-06-20/
LOCATION:Field Museum\, 1400 S Lake Shore Drive\, Chicago\, IL\, 60605\, United States
CATEGORIES:Free,Museum,Science
ATTACH;FMTTYPE=image/jpeg:https://chiwithkids.com/wp-content/uploads/2023/01/fieldmuseum_maximo-383-Photo-by-Lucy-Hewett-©-2018-Field-Museum-1-1-scaled.jpg
END:VEVENT
END:VCALENDAR