BEGIN:VCALENDAR
VERSION:2.0
PRODID:-//Chicago With Kids - ECPv6.15.13.1//NONSGML v1.0//EN
CALSCALE:GREGORIAN
METHOD:PUBLISH
X-ORIGINAL-URL:https://chiwithkids.com
X-WR-CALDESC:Events for Chicago With Kids
REFRESH-INTERVAL;VALUE=DURATION:PT1H
X-Robots-Tag:noindex
X-PUBLISHED-TTL:PT1H
BEGIN:VTIMEZONE
TZID:America/Chicago
BEGIN:DAYLIGHT
TZOFFSETFROM:-0600
TZOFFSETTO:-0500
TZNAME:CDT
DTSTART:20230312T080000
END:DAYLIGHT
BEGIN:STANDARD
TZOFFSETFROM:-0500
TZOFFSETTO:-0600
TZNAME:CST
DTSTART:20231105T070000
END:STANDARD
BEGIN:DAYLIGHT
TZOFFSETFROM:-0600
TZOFFSETTO:-0500
TZNAME:CDT
DTSTART:20240310T080000
END:DAYLIGHT
BEGIN:STANDARD
TZOFFSETFROM:-0500
TZOFFSETTO:-0600
TZNAME:CST
DTSTART:20241103T070000
END:STANDARD
BEGIN:DAYLIGHT
TZOFFSETFROM:-0600
TZOFFSETTO:-0500
TZNAME:CDT
DTSTART:20250309T080000
END:DAYLIGHT
BEGIN:STANDARD
TZOFFSETFROM:-0500
TZOFFSETTO:-0600
TZNAME:CST
DTSTART:20251102T070000
END:STANDARD
END:VTIMEZONE
BEGIN:VEVENT
DTSTART;VALUE=DATE:20240906
DTEND;VALUE=DATE:20240909
DTSTAMP:20260422T032013
CREATED:20230518T012322Z
LAST-MODIFIED:20240906T093759Z
UID:10000990-1725580800-1725839999@chiwithkids.com
SUMMARY:Taste of Greektown
DESCRIPTION:Hellenic pride will take center stage when this acclaimed annual culinary fest on Halsted Street in Chicago’s happening West Loop returns for its 33rd year. As most Chicagoans know\, this strip of Halsted has been the epicenter of the city’s acclaimed Greek restaurant scene for decades. Quite simply\, Taste of Greektown is a romantic weekend celebration for lovers of Mediterranean culture. \nBlending Old World traditions with a 21st century freshness\, the tantalizing food and spirits from neighborhood eateries will again be the main attraction. There will also be plenty of music and entertainment including Greek bands and games for both kids and families. Opa! \n-From the Taste of Greektown Website 
URL:https://chiwithkids.com/event/taste-of-greektown/
LOCATION:Greek Town\, 315 S Halsted St\, Chicago\, IL\, United States
CATEGORIES:Art,Dance,Festival,Food,Free,Music
END:VEVENT
END:VCALENDAR