BEGIN:VCALENDAR
VERSION:2.0
PRODID:-//Chicago With Kids - ECPv6.15.13.1//NONSGML v1.0//EN
CALSCALE:GREGORIAN
METHOD:PUBLISH
X-WR-CALNAME:Chicago With Kids
X-ORIGINAL-URL:https://chiwithkids.com
X-WR-CALDESC:Events for Chicago With Kids
REFRESH-INTERVAL;VALUE=DURATION:PT1H
X-Robots-Tag:noindex
X-PUBLISHED-TTL:PT1H
BEGIN:VTIMEZONE
TZID:America/Chicago
BEGIN:DAYLIGHT
TZOFFSETFROM:-0600
TZOFFSETTO:-0500
TZNAME:CDT
DTSTART:20220313T080000
END:DAYLIGHT
BEGIN:STANDARD
TZOFFSETFROM:-0500
TZOFFSETTO:-0600
TZNAME:CST
DTSTART:20221106T070000
END:STANDARD
BEGIN:DAYLIGHT
TZOFFSETFROM:-0600
TZOFFSETTO:-0500
TZNAME:CDT
DTSTART:20230312T080000
END:DAYLIGHT
BEGIN:STANDARD
TZOFFSETFROM:-0500
TZOFFSETTO:-0600
TZNAME:CST
DTSTART:20231105T070000
END:STANDARD
BEGIN:DAYLIGHT
TZOFFSETFROM:-0600
TZOFFSETTO:-0500
TZNAME:CDT
DTSTART:20240310T080000
END:DAYLIGHT
BEGIN:STANDARD
TZOFFSETFROM:-0500
TZOFFSETTO:-0600
TZNAME:CST
DTSTART:20241103T070000
END:STANDARD
END:VTIMEZONE
BEGIN:VEVENT
DTSTART;TZID=America/Chicago:20230622T203000
DTEND;TZID=America/Chicago:20230622T223000
DTSTAMP:20260425T203638
CREATED:20230523T190145Z
LAST-MODIFIED:20230523T190145Z
UID:10001150-1687465800-1687473000@chiwithkids.com
SUMMARY:Movies in the Park-Puss in Boots: The Last Wish
DESCRIPTION:PUSS IN BOOTS: THE LAST WISH \nWhen Puss in Boots (Antonio Banderas) discovers that his passion for adventure has taken its toll and he has burned through eight of his nine lives\, he launches an epic journey to restore them by finding the mythical Last Wish.\n\nPG | 102 minutes | 2022\n*Closed Captioned\nStart time is approximate\, all movies begin at dusk.\n\n-From chicagoparkdistrict.com
URL:https://chiwithkids.com/event/movies-in-the-puss-in-boots/
LOCATION:Hamilton Park\, 513 W. 72nd St\, Chicago\, IL\, 60621\, United States
CATEGORIES:Free,Movie
ATTACH;FMTTYPE=image/jpeg:https://chiwithkids.com/wp-content/uploads/2023/05/Movie-94-jpg.webp
END:VEVENT
END:VCALENDAR