BEGIN:VCALENDAR
VERSION:2.0
PRODID:-//Chicago With Kids - ECPv6.15.13.1//NONSGML v1.0//EN
CALSCALE:GREGORIAN
METHOD:PUBLISH
X-WR-CALNAME:Chicago With Kids
X-ORIGINAL-URL:https://chiwithkids.com
X-WR-CALDESC:Events for Chicago With Kids
REFRESH-INTERVAL;VALUE=DURATION:PT1H
X-Robots-Tag:noindex
X-PUBLISHED-TTL:PT1H
BEGIN:VTIMEZONE
TZID:America/Chicago
BEGIN:DAYLIGHT
TZOFFSETFROM:-0600
TZOFFSETTO:-0500
TZNAME:CDT
DTSTART:20220313T080000
END:DAYLIGHT
BEGIN:STANDARD
TZOFFSETFROM:-0500
TZOFFSETTO:-0600
TZNAME:CST
DTSTART:20221106T070000
END:STANDARD
BEGIN:DAYLIGHT
TZOFFSETFROM:-0600
TZOFFSETTO:-0500
TZNAME:CDT
DTSTART:20230312T080000
END:DAYLIGHT
BEGIN:STANDARD
TZOFFSETFROM:-0500
TZOFFSETTO:-0600
TZNAME:CST
DTSTART:20231105T070000
END:STANDARD
BEGIN:DAYLIGHT
TZOFFSETFROM:-0600
TZOFFSETTO:-0500
TZNAME:CDT
DTSTART:20240310T080000
END:DAYLIGHT
BEGIN:STANDARD
TZOFFSETFROM:-0500
TZOFFSETTO:-0600
TZNAME:CST
DTSTART:20241103T070000
END:STANDARD
END:VTIMEZONE
BEGIN:VEVENT
DTSTART;TZID=America/Chicago:20230705T203000
DTEND;TZID=America/Chicago:20230705T223000
DTSTAMP:20260425T203157
CREATED:20230523T194303Z
LAST-MODIFIED:20230523T194303Z
UID:10001170-1688589000-1688596200@chiwithkids.com
SUMMARY:Movies in the Park-American Curious
DESCRIPTION:AMERICAN CURIOUS\nJordan Belfi (“Grey’s Anatomy\,” “Entourage”)\, Ana Claudia Talancón and Isela Vega star in this romantic comedy about a Chicago-based stand-up comedian\, David Green\, who finds out that the Mexican biological mother he never knew has passed away and left him a restaurant in Mexico City. \nJordan Belfi (“Grey’s Anatomy\,” “Entourage”)\, Ana Claudia Talancón e Isela Vega protagonizan esta comedia romántica sobre un comediante de “stand-up” de Chicago\, David Green\, quien descubre que la madre biológica mexicana que él nunca conoció ha fallecido y le ha dejado como herencia un restaurante en la Ciudad de México. \n\n85 minutes | 2017\n*Spanish with English subtitles\nStart time is approximate\, all movies begin at dusk.\nHora de inicio es aproximado\, todas las películas comienzan al atardecer.\n\nThis movie is Underwritten by the International Latino Cultural Center \n\n-From chicagoparkdistrict.com
URL:https://chiwithkids.com/event/movies-in-the-park-american-curious/
LOCATION:Harrison Park\, 1824 S Wood St\, Chicago\, IL 60608\, Chicago\, IL\, United States
CATEGORIES:Free,Movie
ATTACH;FMTTYPE=image/jpeg:https://chiwithkids.com/wp-content/uploads/2023/05/Movie-94-jpg.webp
END:VEVENT
BEGIN:VEVENT
DTSTART;TZID=America/Chicago:20230617T110000
DTEND;TZID=America/Chicago:20230617T153000
DTSTAMP:20260425T203157
CREATED:20230614T140405Z
LAST-MODIFIED:20230614T140405Z
UID:10001208-1686999600-1687015800@chiwithkids.com
SUMMARY:Festival del Niño
DESCRIPTION:This family-friendly field day event takes place in Harrison Park\, where the Museum is located\, and is presented by NMMA’s talented education department. Festival del Niño is free of charge. \nThis year we are pleased to announce that Be My Neighbor Day\, presented by WTTW and Fred Rogers Productions\, with support from the PNC Foundation will coincide with Festival del Niño! Special activities include appearances by Daniel Tiger and Katerina Kittycat\, WTTW Kids Learn & Play kindergarten readiness activities\, and more. \nFestival del Niño guests will enjoy: \n\nMusic and dance performances on the main stage\nArt activities like live painting\, bead sun catcher\, and paper puppet making\nCarnival games such as ring toss and egg races\n\n-Info from the National Museum of Mexican Art website
URL:https://chiwithkids.com/event/festival-del-nino/
LOCATION:Harrison Park\, 1824 S Wood St\, Chicago\, IL 60608\, Chicago\, IL\, United States
CATEGORIES:Art,Dance,Festival,Free
ATTACH;FMTTYPE=image/jpeg:https://chiwithkids.com/wp-content/uploads/2023/04/Kids-Dancing-jpg.webp
END:VEVENT
END:VCALENDAR