BEGIN:VCALENDAR
VERSION:2.0
PRODID:-//Chicago With Kids - ECPv6.15.13.1//NONSGML v1.0//EN
CALSCALE:GREGORIAN
METHOD:PUBLISH
X-WR-CALNAME:Chicago With Kids
X-ORIGINAL-URL:https://chiwithkids.com
X-WR-CALDESC:Events for Chicago With Kids
REFRESH-INTERVAL;VALUE=DURATION:PT1H
X-Robots-Tag:noindex
X-PUBLISHED-TTL:PT1H
BEGIN:VTIMEZONE
TZID:America/Chicago
BEGIN:DAYLIGHT
TZOFFSETFROM:-0600
TZOFFSETTO:-0500
TZNAME:CDT
DTSTART:20220313T080000
END:DAYLIGHT
BEGIN:STANDARD
TZOFFSETFROM:-0500
TZOFFSETTO:-0600
TZNAME:CST
DTSTART:20221106T070000
END:STANDARD
BEGIN:DAYLIGHT
TZOFFSETFROM:-0600
TZOFFSETTO:-0500
TZNAME:CDT
DTSTART:20230312T080000
END:DAYLIGHT
BEGIN:STANDARD
TZOFFSETFROM:-0500
TZOFFSETTO:-0600
TZNAME:CST
DTSTART:20231105T070000
END:STANDARD
BEGIN:DAYLIGHT
TZOFFSETFROM:-0600
TZOFFSETTO:-0500
TZNAME:CDT
DTSTART:20240310T080000
END:DAYLIGHT
BEGIN:STANDARD
TZOFFSETFROM:-0500
TZOFFSETTO:-0600
TZNAME:CST
DTSTART:20241103T070000
END:STANDARD
BEGIN:DAYLIGHT
TZOFFSETFROM:-0600
TZOFFSETTO:-0500
TZNAME:CDT
DTSTART:20250309T080000
END:DAYLIGHT
BEGIN:STANDARD
TZOFFSETFROM:-0500
TZOFFSETTO:-0600
TZNAME:CST
DTSTART:20251102T070000
END:STANDARD
BEGIN:DAYLIGHT
TZOFFSETFROM:-0600
TZOFFSETTO:-0500
TZNAME:CDT
DTSTART:20260308T080000
END:DAYLIGHT
BEGIN:STANDARD
TZOFFSETFROM:-0500
TZOFFSETTO:-0600
TZNAME:CST
DTSTART:20261101T070000
END:STANDARD
END:VTIMEZONE
BEGIN:VEVENT
DTSTART;TZID=America/Chicago:20250801T140000
DTEND;TZID=America/Chicago:20250802T220000
DTSTAMP:20260422T013608
CREATED:20240529T154954Z
LAST-MODIFIED:20250727T152051Z
UID:10002756-1754056800-1754172000@chiwithkids.com
SUMMARY:Jeff Fest
DESCRIPTION:A street festival in Jefferson Park with food\, music\, fun and more! \nBeyond music and food\, the Kids’ Zone area on the north side of the park features a ton of cool activities for families. It’s also where one will find the fest’s groovin’ “Community Stage.”
URL:https://chiwithkids.com/event/jeff-fest-2/
LOCATION:Jefferson Park\, 4822 N Long Ave\, Chicago\, IL\, United States
CATEGORIES:Festival,Food,Free,Music
ATTACH;FMTTYPE=image/jpeg:https://chiwithkids.com/wp-content/uploads/2023/05/1-1-jpg.webp
END:VEVENT
BEGIN:VEVENT
DTSTART;TZID=America/Chicago:20230804T140000
DTEND;TZID=America/Chicago:20230806T220000
DTSTAMP:20260422T013608
CREATED:20230511T174527Z
LAST-MODIFIED:20230511T174527Z
UID:10000968-1691157600-1691359200@chiwithkids.com
SUMMARY:Jeff Fest
DESCRIPTION:A street festival in Jefferson Park with food\, music\, fun and more! \nBeyond music and food\, the Kids’ Zone area on the north side of the park features a ton of cool activities for families. It’s also where one will find the fest’s groovin’ “Community Stage.”
URL:https://chiwithkids.com/event/jeff-fest/
LOCATION:Jefferson Park\, 4822 N Long Ave\, Chicago\, IL\, United States
CATEGORIES:Festival,Food,Free,Music
ATTACH;FMTTYPE=image/jpeg:https://chiwithkids.com/wp-content/uploads/2023/05/1-1-jpg.webp
END:VEVENT
END:VCALENDAR