BEGIN:VCALENDAR
VERSION:2.0
PRODID:-//Chicago With Kids - ECPv6.15.13.1//NONSGML v1.0//EN
CALSCALE:GREGORIAN
METHOD:PUBLISH
X-WR-CALNAME:Chicago With Kids
X-ORIGINAL-URL:https://chiwithkids.com
X-WR-CALDESC:Events for Chicago With Kids
REFRESH-INTERVAL;VALUE=DURATION:PT1H
X-Robots-Tag:noindex
X-PUBLISHED-TTL:PT1H
BEGIN:VTIMEZONE
TZID:America/Chicago
BEGIN:DAYLIGHT
TZOFFSETFROM:-0600
TZOFFSETTO:-0500
TZNAME:CDT
DTSTART:20220313T080000
END:DAYLIGHT
BEGIN:STANDARD
TZOFFSETFROM:-0500
TZOFFSETTO:-0600
TZNAME:CST
DTSTART:20221106T070000
END:STANDARD
BEGIN:DAYLIGHT
TZOFFSETFROM:-0600
TZOFFSETTO:-0500
TZNAME:CDT
DTSTART:20230312T080000
END:DAYLIGHT
BEGIN:STANDARD
TZOFFSETFROM:-0500
TZOFFSETTO:-0600
TZNAME:CST
DTSTART:20231105T070000
END:STANDARD
BEGIN:DAYLIGHT
TZOFFSETFROM:-0600
TZOFFSETTO:-0500
TZNAME:CDT
DTSTART:20240310T080000
END:DAYLIGHT
BEGIN:STANDARD
TZOFFSETFROM:-0500
TZOFFSETTO:-0600
TZNAME:CST
DTSTART:20241103T070000
END:STANDARD
BEGIN:DAYLIGHT
TZOFFSETFROM:-0600
TZOFFSETTO:-0500
TZNAME:CDT
DTSTART:20250309T080000
END:DAYLIGHT
BEGIN:STANDARD
TZOFFSETFROM:-0500
TZOFFSETTO:-0600
TZNAME:CST
DTSTART:20251102T070000
END:STANDARD
END:VTIMEZONE
BEGIN:VEVENT
DTSTART;TZID=America/Chicago:20240824T110000
DTEND;TZID=America/Chicago:20240824T200000
DTSTAMP:20260424T082943
CREATED:20230519T131341Z
LAST-MODIFIED:20240823T003250Z
UID:10000992-1724497200-1724529600@chiwithkids.com
SUMMARY:Chalk Howard Fest
DESCRIPTION:Presented by the Rogers Park Business Alliance\, Chalk Howard Street Fest features world-renowned 3D and 2D chalk artists\, food by local purveyors\, opportunities for amateur artists and family-friendly music and entertainment. Get there early to watch incredible art be created in front of your eyes\, or join the fun and chalk your own masterpiece! Later in the afternoon you will even be able to jump into the art and feel the magic come to life. \nLocal bands will be playing live music all afternoon and evening\, the air will be filled with delicious food from local restaurants\, and a kids chalk area will keep the kids entertained while you shop at vendor booths from nearby stores. This one-of-a-kind experience is not one to be missed! \n-From the Chalk Howard Street Festival 
URL:https://chiwithkids.com/event/chalk-howard-fest/
LOCATION:Rogers Park\, Clark St. between Devon Ave. and Rogers Ave.\, Chicago\, IL\, United States
CATEGORIES:Art,Food,Free,Music
ATTACH;FMTTYPE=image/jpeg:https://chiwithkids.com/wp-content/uploads/2023/05/Movie-82-jpg.webp
END:VEVENT
BEGIN:VEVENT
DTSTART;TZID=America/Chicago:20230720T150000
DTEND;TZID=America/Chicago:20230720T190000
DTSTAMP:20260424T082943
CREATED:20230511T142254Z
LAST-MODIFIED:20230511T142304Z
UID:10000954-1689865200-1689879600@chiwithkids.com
SUMMARY:Rogers Park Taco Crawl
DESCRIPTION:Local restaurants will serve their signature tacos while you stroll Clark St. and get to know the community.
URL:https://chiwithkids.com/event/taco-crawl/
LOCATION:Rogers Park\, Clark St. between Devon Ave. and Rogers Ave.\, Chicago\, IL\, United States
CATEGORIES:Festival,Food
ATTACH;FMTTYPE=image/jpeg:https://chiwithkids.com/wp-content/uploads/2023/05/Movie-74-jpg.webp
END:VEVENT
END:VCALENDAR