BEGIN:VCALENDAR
VERSION:2.0
PRODID:-//Chicago With Kids - ECPv6.15.13.1//NONSGML v1.0//EN
CALSCALE:GREGORIAN
METHOD:PUBLISH
X-WR-CALNAME:Chicago With Kids
X-ORIGINAL-URL:https://chiwithkids.com
X-WR-CALDESC:Events for Chicago With Kids
REFRESH-INTERVAL;VALUE=DURATION:PT1H
X-Robots-Tag:noindex
X-PUBLISHED-TTL:PT1H
BEGIN:VTIMEZONE
TZID:America/Chicago
BEGIN:DAYLIGHT
TZOFFSETFROM:-0600
TZOFFSETTO:-0500
TZNAME:CDT
DTSTART:20220313T080000
END:DAYLIGHT
BEGIN:STANDARD
TZOFFSETFROM:-0500
TZOFFSETTO:-0600
TZNAME:CST
DTSTART:20221106T070000
END:STANDARD
BEGIN:DAYLIGHT
TZOFFSETFROM:-0600
TZOFFSETTO:-0500
TZNAME:CDT
DTSTART:20230312T080000
END:DAYLIGHT
BEGIN:STANDARD
TZOFFSETFROM:-0500
TZOFFSETTO:-0600
TZNAME:CST
DTSTART:20231105T070000
END:STANDARD
BEGIN:DAYLIGHT
TZOFFSETFROM:-0600
TZOFFSETTO:-0500
TZNAME:CDT
DTSTART:20240310T080000
END:DAYLIGHT
BEGIN:STANDARD
TZOFFSETFROM:-0500
TZOFFSETTO:-0600
TZNAME:CST
DTSTART:20241103T070000
END:STANDARD
BEGIN:DAYLIGHT
TZOFFSETFROM:-0600
TZOFFSETTO:-0500
TZNAME:CDT
DTSTART:20250309T080000
END:DAYLIGHT
BEGIN:STANDARD
TZOFFSETFROM:-0500
TZOFFSETTO:-0600
TZNAME:CST
DTSTART:20251102T070000
END:STANDARD
END:VTIMEZONE
BEGIN:VEVENT
DTSTART;VALUE=DATE:20240726
DTEND;VALUE=DATE:20240729
DTSTAMP:20260424T075849
CREATED:20240610T173904Z
LAST-MODIFIED:20240610T173904Z
UID:10002781-1721952000-1722211199@chiwithkids.com
SUMMARY:Taste of Lincoln Avenue
DESCRIPTION:One of Chicago’s best street fests! \n\nAn amazing line-up from bands all over the Midwest.\nLocal food favorites\nArts & crafts\nKids’ Carnival is BACK with non-stop activities for your littles including inflatables\, arts/crafts and performances.\n\n 
URL:https://chiwithkids.com/event/taste-of-lincoln-avenue-2/
LOCATION:Taste of Lincoln\, 2500 N Lincoln Ave\, Chicago
CATEGORIES:Art,Festival,Food,Music
ATTACH;FMTTYPE=image/jpeg:https://chiwithkids.com/wp-content/uploads/2023/05/1-1-jpg.webp
END:VEVENT
BEGIN:VEVENT
DTSTART;VALUE=DATE:20230721
DTEND;VALUE=DATE:20230724
DTSTAMP:20260424T075849
CREATED:20230511T144005Z
LAST-MODIFIED:20230511T144005Z
UID:10000957-1689897600-1690156799@chiwithkids.com
SUMMARY:Taste of Lincoln Avenue
DESCRIPTION:One of Chicago’s best street fests! \n\nAn amazing line-up from bands all over the Midwest.\nLocal food favorites\nArts & crafts\nKids’ Carnival is BACK with non-stop activities for your littles including inflatables\, arts/crafts and performances.\n\n 
URL:https://chiwithkids.com/event/taste-of-lincoln-avenue/
LOCATION:Taste of Lincoln\, 2500 N Lincoln Ave\, Chicago
CATEGORIES:Art,Festival,Food,Music
ATTACH;FMTTYPE=image/jpeg:https://chiwithkids.com/wp-content/uploads/2023/05/1-1-jpg.webp
END:VEVENT
END:VCALENDAR