BEGIN:VCALENDAR
VERSION:2.0
PRODID:-//Chicago With Kids - ECPv6.15.13.1//NONSGML v1.0//EN
CALSCALE:GREGORIAN
METHOD:PUBLISH
X-ORIGINAL-URL:https://chiwithkids.com
X-WR-CALDESC:Events for Chicago With Kids
REFRESH-INTERVAL;VALUE=DURATION:PT1H
X-Robots-Tag:noindex
X-PUBLISHED-TTL:PT1H
BEGIN:VTIMEZONE
TZID:America/Chicago
BEGIN:DAYLIGHT
TZOFFSETFROM:-0600
TZOFFSETTO:-0500
TZNAME:CDT
DTSTART:20220313T080000
END:DAYLIGHT
BEGIN:STANDARD
TZOFFSETFROM:-0500
TZOFFSETTO:-0600
TZNAME:CST
DTSTART:20221106T070000
END:STANDARD
BEGIN:DAYLIGHT
TZOFFSETFROM:-0600
TZOFFSETTO:-0500
TZNAME:CDT
DTSTART:20230312T080000
END:DAYLIGHT
BEGIN:STANDARD
TZOFFSETFROM:-0500
TZOFFSETTO:-0600
TZNAME:CST
DTSTART:20231105T070000
END:STANDARD
BEGIN:DAYLIGHT
TZOFFSETFROM:-0600
TZOFFSETTO:-0500
TZNAME:CDT
DTSTART:20240310T080000
END:DAYLIGHT
BEGIN:STANDARD
TZOFFSETFROM:-0500
TZOFFSETTO:-0600
TZNAME:CST
DTSTART:20241103T070000
END:STANDARD
BEGIN:DAYLIGHT
TZOFFSETFROM:-0600
TZOFFSETTO:-0500
TZNAME:CDT
DTSTART:20250309T080000
END:DAYLIGHT
BEGIN:STANDARD
TZOFFSETFROM:-0500
TZOFFSETTO:-0600
TZNAME:CST
DTSTART:20251102T070000
END:STANDARD
END:VTIMEZONE
BEGIN:VEVENT
DTSTART;TZID=America/Chicago:20240719T130000
DTEND;TZID=America/Chicago:20240721T220000
DTSTAMP:20260424T152917
CREATED:20240529T193631Z
LAST-MODIFIED:20240529T193631Z
UID:10002770-1721394000-1721599200@chiwithkids.com
SUMMARY:Pitchfork Music Festival
DESCRIPTION:One of Chicago’s greatest music festivals! \n\nGates will open each day at 12pm. Gate times are subject to change.\nMain gates for the festival are on Ashland\, south of Lake Street\, and Washington Blvd./Ogden Ave.\nYou will need a valid photo ID and a digital ticket in order to enter.\nChildren 10 and under can attend the festival for free.
URL:https://chiwithkids.com/event/pitchfork-music-festival-2/
LOCATION:Union Park\, 1501 W. Randolph St.\, Chicago\, IL\, 60607\, United States
CATEGORIES:Festival,Music
ATTACH;FMTTYPE=image/jpeg:https://chiwithkids.com/wp-content/uploads/2023/05/Movie-59-jpg.webp
END:VEVENT
BEGIN:VEVENT
DTSTART;TZID=America/Chicago:20230721T130000
DTEND;TZID=America/Chicago:20230723T220000
DTSTAMP:20260424T152917
CREATED:20230601T181838Z
LAST-MODIFIED:20230601T181838Z
UID:10001200-1689944400-1690149600@chiwithkids.com
SUMMARY:Pitchfork Music Festival
DESCRIPTION:One of Chicago’s greatest music festivals! \n\nPitchfork Music Festival will take place July 21-23\, 2023 at Chicago’s Union Park.\nGates will open each day at 12pm. Gate times are subject to change.\nMain gates for the festival are on Ashland\, south of Lake Street\, and Washington Blvd./Ogden Ave.\nYou will need a valid photo ID and a digital ticket in order to enter.\nChildren 10 and under can attend the festival for free.
URL:https://chiwithkids.com/event/pitchfork-music-festival/
LOCATION:Union Park\, 1501 W. Randolph St.\, Chicago\, IL\, 60607\, United States
CATEGORIES:Festival,Music
ATTACH;FMTTYPE=image/jpeg:https://chiwithkids.com/wp-content/uploads/2023/05/Movie-59-jpg.webp
END:VEVENT
BEGIN:VEVENT
DTSTART;TZID=America/Chicago:20230706T203000
DTEND;TZID=America/Chicago:20230706T223000
DTSTAMP:20260424T152917
CREATED:20230523T195558Z
LAST-MODIFIED:20230523T195558Z
UID:10001174-1688675400-1688682600@chiwithkids.com
SUMMARY:Movies in the Park-Thor: Love and Thunder
DESCRIPTION:THOR: LOVE AND THUNDER \nThor (Chris Hemsworth) enlists the help of Valkyrie (Tessa Thompson)\, Korg (Taika Waititi) and ex-girlfriend Jane Foster (Natalie Portman) to fight Gorr the God Butcher (Christian Bale)\, who intends to make the gods extinct.\n\nPG-13 | 118 minutes | 2022\n*Closed Captioned\nStart time is approximate\, all movies begin at dusk.\n\n-From chicagoparkdistrict.com
URL:https://chiwithkids.com/event/movies-in-the-park-thor-love-and-thunder/
LOCATION:Union Park\, 1501 W. Randolph St.\, Chicago\, IL\, 60607\, United States
CATEGORIES:Free,Movie
ATTACH;FMTTYPE=image/jpeg:https://chiwithkids.com/wp-content/uploads/2023/05/Movie-94-jpg.webp
END:VEVENT
END:VCALENDAR