BEGIN:VCALENDAR
VERSION:2.0
PRODID:-//Chicago With Kids - ECPv6.15.13.1//NONSGML v1.0//EN
CALSCALE:GREGORIAN
METHOD:PUBLISH
X-ORIGINAL-URL:https://chiwithkids.com
X-WR-CALDESC:Events for Chicago With Kids
REFRESH-INTERVAL;VALUE=DURATION:PT1H
X-Robots-Tag:noindex
X-PUBLISHED-TTL:PT1H
BEGIN:VTIMEZONE
TZID:America/Chicago
BEGIN:DAYLIGHT
TZOFFSETFROM:-0600
TZOFFSETTO:-0500
TZNAME:CDT
DTSTART:20220313T080000
END:DAYLIGHT
BEGIN:STANDARD
TZOFFSETFROM:-0500
TZOFFSETTO:-0600
TZNAME:CST
DTSTART:20221106T070000
END:STANDARD
BEGIN:DAYLIGHT
TZOFFSETFROM:-0600
TZOFFSETTO:-0500
TZNAME:CDT
DTSTART:20230312T080000
END:DAYLIGHT
BEGIN:STANDARD
TZOFFSETFROM:-0500
TZOFFSETTO:-0600
TZNAME:CST
DTSTART:20231105T070000
END:STANDARD
BEGIN:DAYLIGHT
TZOFFSETFROM:-0600
TZOFFSETTO:-0500
TZNAME:CDT
DTSTART:20240310T080000
END:DAYLIGHT
BEGIN:STANDARD
TZOFFSETFROM:-0500
TZOFFSETTO:-0600
TZNAME:CST
DTSTART:20241103T070000
END:STANDARD
BEGIN:DAYLIGHT
TZOFFSETFROM:-0600
TZOFFSETTO:-0500
TZNAME:CDT
DTSTART:20250309T080000
END:DAYLIGHT
BEGIN:STANDARD
TZOFFSETFROM:-0500
TZOFFSETTO:-0600
TZNAME:CST
DTSTART:20251102T070000
END:STANDARD
END:VTIMEZONE
BEGIN:VEVENT
DTSTART;TZID=America/Chicago:20240713T100000
DTEND;TZID=America/Chicago:20240713T150000
DTSTAMP:20260421T050333
CREATED:20240529T170306Z
LAST-MODIFIED:20240529T170315Z
UID:10002758-1720864800-1720882800@chiwithkids.com
SUMMARY:Kids' Fest 2023
DESCRIPTION:Highlights of Kids’ Fest 2024: \n– A Day of Outdoor Delights: Bask in the warmth of the summer sun and revel in a day filled with outdoor activities that will keep kids of all ages entertained. \n– Nature Exploration: Discover the wonders of the natural world through interactive exhibits\, wildlife encounters\, and educational workshops. \n– Creative Crafts: Unleash your artistic talents with hands-on crafting stations that allow kids to express their creativity and bring home their own masterpieces. \n– Adventure Zone: Try your hand at archery and enjoy time on Wampum Lake in a canoe!\nFun for All Ages: Kids’ Fest 2024 is designed for kids and adults alike\, ensuring a memorable day out for everyone in the family. \nDon’t miss this incredible summer celebration! Join us on July 13\, 2024\, at Wampum Lake for a day of sunshine\, laughter\, and the magic of Kids’ Fest 2024. We can’t wait to make unforgettable summer memories with you. \nThis event is free and open to all. Registration is not required but helps us ensure we have the resources to accommodate everyone in attendance. The event is outside and will happen rain or shine. \nCanoe slots are limited. Canoe registration is taken day of at the canoe launch. Canoeing is first come\, first served. Registering for this event does NOT guarantee you participation in any or all activities.
URL:https://chiwithkids.com/event/kids-fest-2023-2/
LOCATION:Wampum Lake\, 598 Thornton Lansing Road\, Thornton\, IL\, 60476\, United States
CATEGORIES:Festival,Free,Sports
ATTACH;FMTTYPE=image/jpeg:https://chiwithkids.com/wp-content/uploads/2023/04/Kids-Dancing-jpg.webp
END:VEVENT
BEGIN:VEVENT
DTSTART;TZID=America/Chicago:20230708T100000
DTEND;TZID=America/Chicago:20230708T150000
DTSTAMP:20260421T050333
CREATED:20230510T165345Z
LAST-MODIFIED:20230510T170003Z
UID:10000938-1688810400-1688828400@chiwithkids.com
SUMMARY:Kids' Fest 2023
DESCRIPTION:“Kids’ Fest is a family fun day brought to you by the Forest Preserves of Cook County and other community partners. Highlights include canoeing\, climbing\, and archery. Also enjoy\, art making\, games\, nature exploration and a chance to celebrate the start of summer. \nThis event is free and open to all. Registration is not required but helps us ensure we have the resources to accommodate everyone in attendance. The event is outside and will happen rain or shine. \nCanoe slots are limited. Canoe registration is taken day of at the canoe launch. Canoeing is first come\, first served. Registering for this event does NOT guarantee you participation in any or all activities.”-From the Kidsfest website 
URL:https://chiwithkids.com/event/kids-fest-2023/
LOCATION:Wampum Lake\, 598 Thornton Lansing Road\, Thornton\, IL\, 60476\, United States
CATEGORIES:Festival,Free,Sports
ATTACH;FMTTYPE=image/jpeg:https://chiwithkids.com/wp-content/uploads/2023/04/Kids-Dancing-jpg.webp
END:VEVENT
END:VCALENDAR